BEGIN:VCALENDAR
VERSION:2.0
PRODID:-//www.dsalowcountry.org//NONSGML kigkonsult.se iCalcreator 2.30.10/
 /
CALSCALE:GREGORIAN
METHOD:PUBLISH
UID:28004f3c-f6bc-4380-bcc8-a6798fc141b4
X-WR-CALDESC:Under 3 - 4-4:45\nAge 3-7 4:45-5:30\nEmail dsalowcountry@gmail
 .com to rsvp
X-WR-RELCALID:48e2bc6674be170e5c726fe0e09e9f80
X-WR-TIMEZONE:America/New_York
BEGIN:VTIMEZONE
TZID:America/New_York
BEGIN:STANDARD
TZNAME:EST
DTSTART:20161106T020000
TZOFFSETFROM:-0400
TZOFFSETTO:-0500
RDATE:20171105T020000
END:STANDARD
BEGIN:DAYLIGHT
TZNAME:EDT
DTSTART:20160313T020000
TZOFFSETFROM:-0500
TZOFFSETTO:-0400
RDATE:20170312T020000
RDATE:20180311T020000
END:DAYLIGHT
END:VTIMEZONE
BEGIN:VEVENT
UID:bc3ebdd7-9a99-4f82-9df5-ef611a97c95e
DTSTAMP:20260424T003332Z
DESCRIPTION:Under 3 - 4-4:45\nAge 3-7 4:45-5:30\nEmail dsalowcountry@gmail.
 com to rsvp
DTSTART;TZID=America/New_York:20170304T160000
DTEND;TZID=America/New_York:20170304T173000
LOCATION:Little Gym of Summerville
SUMMARY:Play Date for under 3s and 3-7
END:VEVENT
END:VCALENDAR
