BEGIN:VCALENDAR
VERSION:2.0
PRODID:-//www.dsalowcountry.org//NONSGML kigkonsult.se iCalcreator 2.30.10/
 /
CALSCALE:GREGORIAN
METHOD:PUBLISH
UID:1acf36fe-3316-4b11-a4cb-7232a5e60a3f
X-WR-CALDESC:You must RSVP to attend.\nContact tbeck6@bellsouth.net to rsvp
X-WR-RELCALID:24ca0d6ec6de0e945dee007131474bb2
X-WR-TIMEZONE:America/New_York
BEGIN:VTIMEZONE
TZID:America/New_York
BEGIN:STANDARD
TZNAME:EST
DTSTART:20161106T020000
TZOFFSETFROM:-0400
TZOFFSETTO:-0500
RDATE:20171105T020000
END:STANDARD
BEGIN:DAYLIGHT
TZNAME:EDT
DTSTART:20160313T020000
TZOFFSETFROM:-0500
TZOFFSETTO:-0400
RDATE:20170312T020000
RDATE:20180311T020000
END:DAYLIGHT
END:VTIMEZONE
BEGIN:VEVENT
UID:fb6b3baa-6f0a-4624-9118-25bb8f25320e
DTSTAMP:20260424T004909Z
DESCRIPTION:You must RSVP to attend.\nContact tbeck6@bellsouth.net to rsvp
DTSTART;TZID=America/New_York:20170304T180000
DTEND;TZID=America/New_York:20170304T210000
LOCATION:
SUMMARY:Spring Dance for 18 and up
END:VEVENT
END:VCALENDAR
