BEGIN:VCALENDAR
VERSION:2.0
PRODID:-//www.dsalowcountry.org//NONSGML kigkonsult.se iCalcreator 2.30.10/
 /
CALSCALE:GREGORIAN
METHOD:PUBLISH
UID:db095180-7ef5-4d45-a34e-5bca3b33d02c
X-WR-CALDESC:Please come and share your input regarding events and opportun
 ities for our organization. Journey Book workshop will follow meeting.
X-WR-RELCALID:da6dfaa13d22f5f04689734f006e7b08
X-WR-TIMEZONE:America/New_York
BEGIN:VTIMEZONE
TZID:America/New_York
BEGIN:STANDARD
TZNAME:EST
DTSTART:20161106T020000
TZOFFSETFROM:-0400
TZOFFSETTO:-0500
RDATE:20171105T020000
END:STANDARD
BEGIN:DAYLIGHT
TZNAME:EDT
DTSTART:20170312T020000
TZOFFSETFROM:-0500
TZOFFSETTO:-0400
RDATE:20180311T020000
END:DAYLIGHT
END:VTIMEZONE
BEGIN:VEVENT
UID:845c711e-00f6-440f-bcbb-53cb0d7ded00
DTSTAMP:20260424T003125Z
DESCRIPTION:Please come and share your input regarding events and opportuni
 ties for our organization. Journey Book workshop will follow meeting.
DTSTART;TZID=America/New_York:20170318T133000
DTEND;TZID=America/New_York:20170318T143000
LOCATION:Daniel Island Library
SUMMARY:DSAL General Meeting
END:VEVENT
END:VCALENDAR
