BEGIN:VCALENDAR
VERSION:2.0
PRODID:-//www.dsalowcountry.org//NONSGML kigkonsult.se iCalcreator 2.30.10/
 /
CALSCALE:GREGORIAN
METHOD:PUBLISH
UID:9b6ce0b5-0b20-429a-8eeb-fef966b7ae19
X-WR-CALDESC:We will have two representatives from Family Connections prese
 nt a workshop on creating a Journey Book to help organize what you will ne
 ed for successful IEP meetings. This workshop is beneficial for the super-
 organized parent and the parent that could use some help getting there. It
  is led by fellow parents of kids with special needs and they may have som
 e new tips to help even our IEP veterans. AND YOU GET STUFF! You will rece
 ive a binder with all of the materials they present for organizing your ch
 ild's information that you can customize to your liking. Please RSVP to en
 sure that we have enough materials for everyone.
X-WR-RELCALID:59b2bb7eddce7646dfa002a0920dea10
X-WR-TIMEZONE:America/New_York
BEGIN:VTIMEZONE
TZID:America/New_York
BEGIN:STANDARD
TZNAME:EST
DTSTART:20161106T020000
TZOFFSETFROM:-0400
TZOFFSETTO:-0500
RDATE:20171105T020000
END:STANDARD
BEGIN:DAYLIGHT
TZNAME:EDT
DTSTART:20170312T020000
TZOFFSETFROM:-0500
TZOFFSETTO:-0400
RDATE:20180311T020000
END:DAYLIGHT
END:VTIMEZONE
BEGIN:VEVENT
UID:e67ccb29-9011-4fb7-bd0a-dcee3815c628
DTSTAMP:20260424T003929Z
DESCRIPTION:We will have two representatives from Family Connections presen
 t a workshop on creating a Journey Book to help organize what you will nee
 d for successful IEP meetings. This workshop is beneficial for the super-o
 rganized parent and the parent that could use some help getting there. It 
 is led by fellow parents of kids with special needs and they may have some
  new tips to help even our IEP veterans. AND YOU GET STUFF! You will recei
 ve a binder with all of the materials they present for organizing your chi
 ld's information that you can customize to your liking. Please RSVP to ens
 ure that we have enough materials for everyone.
DTSTART;TZID=America/New_York:20170318T143000
DTEND;TZID=America/New_York:20170318T160000
LOCATION:Daniel Island Library
SUMMARY:Journey Book Workshop for Effective IEPs
END:VEVENT
END:VCALENDAR
