BEGIN:VCALENDAR
VERSION:2.0
PRODID:-//www.dsalowcountry.org//NONSGML kigkonsult.se iCalcreator 2.30.10/
 /
CALSCALE:GREGORIAN
METHOD:PUBLISH
UID:4195d29c-78d5-4ceb-a1aa-0f0282f2f8a6
X-WR-CALDESC:Benefiting the Down Syndrome Association of the Lowcountry\nRe
 gistration starts at 10am\n$500 per team\n$125 per individual\nAward Cerem
 ony and After Party at the Belle Hall Dog and Duck\nDeadline to register i
 s March 20th
X-WR-RELCALID:fed47fb03c1100e8967f07c9d2b6b0db
X-WR-TIMEZONE:America/New_York
BEGIN:VTIMEZONE
TZID:America/New_York
BEGIN:STANDARD
TZNAME:EST
DTSTART:20161106T020000
TZOFFSETFROM:-0400
TZOFFSETTO:-0500
RDATE:20171105T020000
END:STANDARD
BEGIN:DAYLIGHT
TZNAME:EDT
DTSTART:20170312T020000
TZOFFSETFROM:-0500
TZOFFSETTO:-0400
RDATE:20180311T020000
END:DAYLIGHT
END:VTIMEZONE
BEGIN:VEVENT
UID:5f9c86a2-d88e-481d-9f8b-6c30f26827ea
DTSTAMP:20260423T230629Z
DESCRIPTION:Benefiting the Down Syndrome Association of the Lowcountry\nReg
 istration starts at 10am\n$500 per team\n$125 per individual\nAward Ceremo
 ny and After Party at the Belle Hall Dog and Duck\nDeadline to register is
  March 20th
DTSTART;TZID=America/New_York:20170403T120000
DTEND;TZID=America/New_York:20170403T180000
LOCATION:Snee Farm Country Club
SUMMARY:Dog and Duck Golf Tournement
END:VEVENT
END:VCALENDAR
