BEGIN:VCALENDAR
VERSION:2.0
PRODID:-//www.dsalowcountry.org//NONSGML kigkonsult.se iCalcreator 2.30.10/
 /
CALSCALE:GREGORIAN
METHOD:PUBLISH
UID:bd02b58e-8785-494e-96d3-dd9e7652824b
X-WR-CALDESC:For more information\, visit CharlestonCountyParks.com or call
  (843) 795-4386.
X-WR-RELCALID:843a4d02b414e26f142fe3b185dd1df7
X-WR-TIMEZONE:America/New_York
BEGIN:VTIMEZONE
TZID:America/New_York
BEGIN:STANDARD
TZNAME:EST
DTSTART:20161106T020000
TZOFFSETFROM:-0400
TZOFFSETTO:-0500
RDATE:20171105T020000
END:STANDARD
BEGIN:DAYLIGHT
TZNAME:EDT
DTSTART:20170312T020000
TZOFFSETFROM:-0500
TZOFFSETTO:-0400
RDATE:20180311T020000
END:DAYLIGHT
END:VTIMEZONE
BEGIN:VEVENT
UID:af3f88c4-4bc8-4202-90f2-0e0ce164ef82
DTSTAMP:20260423T231054Z
DESCRIPTION:For more information\, visit CharlestonCountyParks.com or call 
 (843) 795-4386.
DTSTART;TZID=America/New_York:20170409T140000
DTEND;TZID=America/New_York:20170409T160000
LOCATION:Climbing Wall at James Island County Park
SUMMARY:Adaptive Climbing
END:VEVENT
END:VCALENDAR
