BEGIN:VCALENDAR
VERSION:2.0
PRODID:-//www.dsalowcountry.org//NONSGML kigkonsult.se iCalcreator 2.30.10/
 /
CALSCALE:GREGORIAN
METHOD:PUBLISH
UID:e180186c-8ee6-4d5b-a7e6-b32d61b64f72
X-WR-CALDESC:Here's a great opportunity for us! The Family Resource Center 
 for Disabilities & Special Needs is hosting an IEP training!\nTitle: Indiv
 idualized Education Plan (IEP) Training (with a focus on transition betwee
 n BabyNet and school)\nPlace: Main Charleston Public Library (68 Calhoun S
 treet)\, Meeting Room B\nTime: 2:30-4 p.m.\, Saturday April 29\nRSVP to ro
 gerb@musc.edu by Wednesday\, April 26th\, so they can make up enough packe
 ts.\nPlease feel free to invite people who might be interested in coming. 
 This is such a great opportunity for us\, and I hope to see a lot of you t
 here!
X-WR-RELCALID:fe6429ac381bdb3a43e684861c81d0df
X-WR-TIMEZONE:America/New_York
BEGIN:VTIMEZONE
TZID:America/New_York
BEGIN:STANDARD
TZNAME:EST
DTSTART:20161106T020000
TZOFFSETFROM:-0400
TZOFFSETTO:-0500
RDATE:20171105T020000
END:STANDARD
BEGIN:DAYLIGHT
TZNAME:EDT
DTSTART:20170312T020000
TZOFFSETFROM:-0500
TZOFFSETTO:-0400
RDATE:20180311T020000
END:DAYLIGHT
END:VTIMEZONE
BEGIN:VEVENT
UID:a2eddfa3-df1d-4161-a266-2af2965d3b9f
DTSTAMP:20260423T230957Z
DESCRIPTION:Here's a great opportunity for us! The Family Resource Center f
 or Disabilities & Special Needs is hosting an IEP training!\nTitle: Indivi
 dualized Education Plan (IEP) Training (with a focus on transition between
  BabyNet and school)\nPlace: Main Charleston Public Library (68 Calhoun St
 reet)\, Meeting Room B\nTime: 2:30-4 p.m.\, Saturday April 29\nRSVP to rog
 erb@musc.edu by Wednesday\, April 26th\, so they can make up enough packet
 s.\nPlease feel free to invite people who might be interested in coming. T
 his is such a great opportunity for us\, and I hope to see a lot of you th
 ere!
DTSTART;TZID=America/New_York:20170429T143000
DTEND;TZID=America/New_York:20170429T160000
LOCATION:Main Charleston Public Library (68 Calhoun Street)\, Meeting Room 
 B
SUMMARY:Individualized Education Plan (IEP) Training
END:VEVENT
END:VCALENDAR
