BEGIN:VCALENDAR
VERSION:2.0
PRODID:-//www.dsalowcountry.org//NONSGML kigkonsult.se iCalcreator 2.30.10/
 /
CALSCALE:GREGORIAN
METHOD:PUBLISH
UID:53137789-4e6a-4ee9-b4ba-b1d232df4924
X-WR-CALDESC:Please mark your calendar for a DSAL hang out on May 6th. We'd
  love to see all of our families with a member 10 and under.\nWhile we are
  together\, we would love for the kids to help decorate a poster to thank 
 Dog and Duck for donating proceeds from their charity golf tournament to D
 SAL!\nWe will also have an added component to this hang out. Kids from Pin
 ckney Elementary School's Project ONEE have volunteered to join us and han
 g out with our kiddos and perhaps give parents a little extra ease in actu
 ally conversing with each other! This 3rd grade class at Pinckney is curre
 ntly partnering with special education classes at Laurel Hill Primary in a
 n effort to spread empathy\, understanding and acceptance to those with di
 ffering abilities. They created a group called Project ONEE (Open minds + 
 new knowledge + empathy = Extraordinary change). Twice a month the student
 s do Buddy Visits with the special education classes\, in addition to vari
 ous research projects and activities.\nOne of the students in this class\,
  Olivia\, reached out to DSAL wanting to volunteer. Her teacher\, Ms Saman
 tha Shealy is on board with this get together.\nI hope to see all of you g
 uys there!! Fingers crossed for lovely weather!\nDetails:\nWhen: May 6th a
 t 3:00 pm [Rain date is the following day\, May 7th at 3:00 pm]\nWhere: Ce
 nter Park (2225 Daniel Island Dr\, Charleston\, SC 29492) This park has tw
 o sets of equipment (one for younger kiddos and one for older) as well as 
 a lot of shade if desired. \nWho: Families with a DSAL member 10 and young
 er (but of course anyone is welcome to come and join the fun!) This also\,
  of course\, includes moms\, dads\, siblings\, and our expectant moms and 
 dads.
X-WR-RELCALID:fcdbb73ac34aea3e63e2274d23af7d95
X-WR-TIMEZONE:America/New_York
BEGIN:VTIMEZONE
TZID:America/New_York
BEGIN:STANDARD
TZNAME:EST
DTSTART:20161106T020000
TZOFFSETFROM:-0400
TZOFFSETTO:-0500
RDATE:20171105T020000
RDATE:20181104T020000
END:STANDARD
BEGIN:DAYLIGHT
TZNAME:EDT
DTSTART:20170312T020000
TZOFFSETFROM:-0500
TZOFFSETTO:-0400
RDATE:20180311T020000
END:DAYLIGHT
END:VTIMEZONE
BEGIN:VEVENT
UID:ecb04939-9eeb-4065-b509-6489cdf8a31e
DTSTAMP:20260423T214129Z
DESCRIPTION:Please mark your calendar for a DSAL hang out on May 6th. We'd 
 love to see all of our families with a member 10 and under.\nWhile we are 
 together\, we would love for the kids to help decorate a poster to thank D
 og and Duck for donating proceeds from their charity golf tournament to DS
 AL!\nWe will also have an added component to this hang out. Kids from Pinc
 kney Elementary School's Project ONEE have volunteered to join us and hang
  out with our kiddos and perhaps give parents a little extra ease in actua
 lly conversing with each other! This 3rd grade class at Pinckney is curren
 tly partnering with special education classes at Laurel Hill Primary in an
  effort to spread empathy\, understanding and acceptance to those with dif
 fering abilities. They created a group called Project ONEE (Open minds + n
 ew knowledge + empathy = Extraordinary change). Twice a month the students
  do Buddy Visits with the special education classes\, in addition to vario
 us research projects and activities.\nOne of the students in this class\, 
 Olivia\, reached out to DSAL wanting to volunteer. Her teacher\, Ms Samant
 ha Shealy is on board with this get together.\nI hope to see all of you gu
 ys there!! Fingers crossed for lovely weather!\nDetails:\nWhen: May 6th at
  3:00 pm [Rain date is the following day\, May 7th at 3:00 pm]\nWhere: Cen
 ter Park (2225 Daniel Island Dr\, Charleston\, SC 29492) This park has two
  sets of equipment (one for younger kiddos and one for older) as well as a
  lot of shade if desired. \nWho: Families with a DSAL member 10 and younge
 r (but of course anyone is welcome to come and join the fun!) This also\, 
 of course\, includes moms\, dads\, siblings\, and our expectant moms and d
 ads.
DTSTART;TZID=America/New_York:20170506T150000
DTEND;TZID=America/New_York:20170506T170000
LOCATION:Center Park (2225 Daniel Island Dr\, Charleston\, SC 29492)
SUMMARY:10 and Under Park Hang Out
END:VEVENT
END:VCALENDAR
