BEGIN:VCALENDAR
VERSION:2.0
PRODID:-//www.dsalowcountry.org//NONSGML kigkonsult.se iCalcreator 2.30.10/
 /
CALSCALE:GREGORIAN
METHOD:PUBLISH
UID:760192c7-cf6a-486a-9205-ad1672dff1f1
X-WR-CALDESC:Kelly's Dance in Summerville is hosting a 45 minute dance clas
 s for our littles age 3-7 May 6 at 11:30 am. Please note that class will t
 ake place on the second story and one parent must be present during class.
  The class is free of charge.\nErin Odom\, one of our DSAL parents\, has a
  daughter who goes to this dance studio. She may be able to answer any spe
 cific questions regarding Kelly's Dance. Hope your wee dancers can make it
  to this lesson.\n\nPlease RSVP to Erica if you plan to go just so that we
  know how many to expect. Thank you!\n\n
X-WR-RELCALID:2f65f6cff690cc48e36be481a77ddc74
X-WR-TIMEZONE:America/New_York
BEGIN:VTIMEZONE
TZID:America/New_York
BEGIN:STANDARD
TZNAME:EST
DTSTART:20161106T020000
TZOFFSETFROM:-0400
TZOFFSETTO:-0500
RDATE:20171105T020000
RDATE:20181104T020000
END:STANDARD
BEGIN:DAYLIGHT
TZNAME:EDT
DTSTART:20170312T020000
TZOFFSETFROM:-0500
TZOFFSETTO:-0400
RDATE:20180311T020000
END:DAYLIGHT
END:VTIMEZONE
BEGIN:VEVENT
UID:525c15e8-82b7-4b88-87e3-8ea4831b4088
DTSTAMP:20260423T211933Z
DESCRIPTION:Kelly's Dance in Summerville is hosting a 45 minute dance class
  for our littles age 3-7 May 6 at 11:30 am. Please note that class will ta
 ke place on the second story and one parent must be present during class. 
 The class is free of charge.\nErin Odom\, one of our DSAL parents\, has a 
 daughter who goes to this dance studio. She may be able to answer any spec
 ific questions regarding Kelly's Dance. Hope your wee dancers can make it 
 to this lesson.\n\nPlease RSVP to Erica if you plan to go just so that we 
 know how many to expect. Thank you!\n\n
DTSTART;TZID=America/New_York:20170506T113000
DTEND;TZID=America/New_York:20170506T121500
LOCATION:Kelly's Dance 201 N Gum St\, Summerville\, SC 29483
SUMMARY:Free Dance Class Ages 3-7
END:VEVENT
END:VCALENDAR
