BEGIN:VCALENDAR
VERSION:2.0
PRODID:-//www.dsalowcountry.org//NONSGML kigkonsult.se iCalcreator 2.30.10/
 /
CALSCALE:GREGORIAN
METHOD:PUBLISH
UID:4f6cd15a-ccfb-49ce-b9cd-b3236c2ef66a
X-WR-CALDESC:For more information\, visit CharlestonCountyParks.com or call
  (843) 795-4386.
X-WR-RELCALID:3059a8abe6ba500417ea7af5f24f7766
X-WR-TIMEZONE:America/New_York
BEGIN:VTIMEZONE
TZID:America/New_York
BEGIN:STANDARD
TZNAME:EST
DTSTART:20161106T020000
TZOFFSETFROM:-0400
TZOFFSETTO:-0500
RDATE:20171105T020000
RDATE:20181104T020000
END:STANDARD
BEGIN:DAYLIGHT
TZNAME:EDT
DTSTART:20170312T020000
TZOFFSETFROM:-0500
TZOFFSETTO:-0400
RDATE:20180311T020000
END:DAYLIGHT
END:VTIMEZONE
BEGIN:VEVENT
UID:fb71840e-995b-45ac-8a4f-dad6da1ca7bc
DTSTAMP:20260423T195258Z
DESCRIPTION:For more information\, visit CharlestonCountyParks.com or call 
 (843) 795-4386.
DTSTART;TZID=America/New_York:20170610T140000
DTEND;TZID=America/New_York:20170610T160000
LOCATION:Mt. Pleasant Pier
SUMMARY:Adaptive Fishing
END:VEVENT
END:VCALENDAR
