BEGIN:VCALENDAR
VERSION:2.0
PRODID:-//www.dsalowcountry.org//NONSGML kigkonsult.se iCalcreator 2.30.10/
 /
CALSCALE:GREGORIAN
METHOD:PUBLISH
UID:aede1e29-4272-43db-9012-03d11cb69cdf
X-WR-CALDESC:Day camp for kids aged 3-8.\nBuddy Camp is an inclusive camp t
 hat offers a fun-filled experience for all campers.  Buddy Camp counselor/
 volunteer to camper ratio will be will be 1 volunteer counselor per 2 camp
 ers.  If your child demonstrates significant issues that may require more 
 intensive and experienced counselor supervision\, contact Jill Shuler at 8
 43-209-9565 prior to camp registration.\n\nEmail Erica at dsalowcountry@gm
 ail.com for a registration form. \n$25 camp registration per camper \nRegi
 stration forms are due by Friday May 26th.  Please return registration for
 ms to:  Jill Shuler (E-mail:  jill@coastaltherapyservices.com\, Fax: 216-2
 445\, or Mail: Coastal Therapy Services\, Inc.\, Attn: Jill Shuler PO Box 
 1753 Mount Pleasant\, SC 29465).  Please bring registration dues to camp o
 n Monday June 12th.
X-WR-RELCALID:0aa0c32bfcef320b52621bcb61c71d93
X-WR-TIMEZONE:America/New_York
BEGIN:VTIMEZONE
TZID:America/New_York
BEGIN:STANDARD
TZNAME:EST
DTSTART:20161106T020000
TZOFFSETFROM:-0400
TZOFFSETTO:-0500
RDATE:20171105T020000
RDATE:20181104T020000
END:STANDARD
BEGIN:DAYLIGHT
TZNAME:EDT
DTSTART:20170312T020000
TZOFFSETFROM:-0500
TZOFFSETTO:-0400
RDATE:20180311T020000
END:DAYLIGHT
END:VTIMEZONE
BEGIN:VEVENT
UID:d644dc3c-a1e8-49a7-a769-918a757d32e5
DTSTAMP:20260423T195559Z
DESCRIPTION:Day camp for kids aged 3-8.\nBuddy Camp is an inclusive camp th
 at offers a fun-filled experience for all campers.  Buddy Camp counselor/v
 olunteer to camper ratio will be will be 1 volunteer counselor per 2 campe
 rs.  If your child demonstrates significant issues that may require more i
 ntensive and experienced counselor supervision\, contact Jill Shuler at 84
 3-209-9565 prior to camp registration.\n\nEmail Erica at dsalowcountry@gma
 il.com for a registration form. \n$25 camp registration per camper \nRegis
 tration forms are due by Friday May 26th.  Please return registration form
 s to:  Jill Shuler (E-mail:  jill@coastaltherapyservices.com\, Fax: 216-24
 45\, or Mail: Coastal Therapy Services\, Inc.\, Attn: Jill Shuler PO Box 1
 753 Mount Pleasant\, SC 29465).  Please bring registration dues to camp on
  Monday June 12th.
DTSTART;TZID=America/New_York:20170612T090000
DTEND;TZID=America/New_York:20170615T113000
LOCATION:Providence Baptist Church\, Daniel Island - Hosted by Coastal Ther
 apy Services
SUMMARY:Buddy Camp
END:VEVENT
END:VCALENDAR
