BEGIN:VCALENDAR
VERSION:2.0
PRODID:-//www.dsalowcountry.org//NONSGML kigkonsult.se iCalcreator 2.30.10/
 /
CALSCALE:GREGORIAN
METHOD:PUBLISH
UID:f73fa422-1371-43e4-96d0-d536cbd00c66
X-WR-CALDESC:From the feedback that I have received\, I am going to set a d
 ate and time for Yoga in the Park so that you busy people can mark your ca
 lendars! All ages are welcomed. Siblings and parents are encouraged to par
 ticipate too! Miss Cara is excited to meet you guys so lets fill the park 
 with our DSAL yoga zen! If this goes well\, I'd love to see this be a mont
 hly thing!\n\nDate: Sunday June 25th\nTime: 3:00pm\nLocation: Hampton Park
  near the Gazebo (30 Mary Murray Dr\, Charleston\, SC 29403)\nWhat to brin
 g: Yoga mat or beach towel\, water bottle\n\nThere are shaded areas should
  it be a scorcher. Should it rain\, we will set another date (check email 
 and/or FB for updates if it seems questionable). There is a playground nea
 rby if other siblings are not feeling the yoga.
X-WR-RELCALID:996f51fbefa58ce1e19db9b168381f93
X-WR-TIMEZONE:America/New_York
BEGIN:VTIMEZONE
TZID:America/New_York
BEGIN:STANDARD
TZNAME:EST
DTSTART:20161106T020000
TZOFFSETFROM:-0400
TZOFFSETTO:-0500
RDATE:20171105T020000
RDATE:20181104T020000
END:STANDARD
BEGIN:DAYLIGHT
TZNAME:EDT
DTSTART:20170312T020000
TZOFFSETFROM:-0500
TZOFFSETTO:-0400
RDATE:20180311T020000
END:DAYLIGHT
END:VTIMEZONE
BEGIN:VEVENT
UID:59099c3d-3d4a-409e-ab7e-5834f7e51633
DTSTAMP:20260423T200139Z
DESCRIPTION:From the feedback that I have received\, I am going to set a da
 te and time for Yoga in the Park so that you busy people can mark your cal
 endars! All ages are welcomed. Siblings and parents are encouraged to part
 icipate too! Miss Cara is excited to meet you guys so lets fill the park w
 ith our DSAL yoga zen! If this goes well\, I'd love to see this be a month
 ly thing!\n\nDate: Sunday June 25th\nTime: 3:00pm\nLocation: Hampton Park 
 near the Gazebo (30 Mary Murray Dr\, Charleston\, SC 29403)\nWhat to bring
 : Yoga mat or beach towel\, water bottle\n\nThere are shaded areas should 
 it be a scorcher. Should it rain\, we will set another date (check email a
 nd/or FB for updates if it seems questionable). There is a playground near
 by if other siblings are not feeling the yoga.
DTSTART;TZID=America/New_York:20170625T150000
DTEND;TZID=America/New_York:20170625T160000
LOCATION:Hampton Park near the Gazebo (30 Mary Murray Dr\, Charleston\, SC 
 29403)
SUMMARY:Yoga in the Park - RAINED OUT - Keep an eye out for rescheduling :-
 (
END:VEVENT
END:VCALENDAR
