BEGIN:VCALENDAR
VERSION:2.0
PRODID:-//www.dsalowcountry.org//NONSGML kigkonsult.se iCalcreator 2.30.10/
 /
CALSCALE:GREGORIAN
METHOD:PUBLISH
UID:4a033406-c1aa-415d-a650-0fdeb56980c2
X-WR-CALDESC:http://campriseabove.org/summer-camps/
X-WR-RELCALID:1300509793777378d08a3fbdb3c5236c
X-WR-TIMEZONE:America/New_York
BEGIN:VTIMEZONE
TZID:America/New_York
BEGIN:STANDARD
TZNAME:EST
DTSTART:20161106T020000
TZOFFSETFROM:-0400
TZOFFSETTO:-0500
RDATE:20171105T020000
RDATE:20181104T020000
END:STANDARD
BEGIN:DAYLIGHT
TZNAME:EDT
DTSTART:20170312T020000
TZOFFSETFROM:-0500
TZOFFSETTO:-0400
RDATE:20180311T020000
END:DAYLIGHT
END:VTIMEZONE
BEGIN:VEVENT
UID:be78ca23-5414-4b64-a966-bde96d611cbb
DTSTAMP:20260423T181234Z
DESCRIPTION:http://campriseabove.org/summer-camps/
DTSTART;TZID=America/New_York:20170710T000000
DTEND;TZID=America/New_York:20170711T235900
LOCATION:James Island County Park
SUMMARY:Camp Rise Above
END:VEVENT
END:VCALENDAR
