BEGIN:VCALENDAR
VERSION:2.0
PRODID:-//www.dsalowcountry.org//NONSGML kigkonsult.se iCalcreator 2.30.10/
 /
CALSCALE:GREGORIAN
METHOD:PUBLISH
UID:1c9ecbce-7a61-4170-94a0-6663b64489cb
X-WR-CALDESC:For more information\, visit CharlestonCountyParks.com or call
  (843) 795-4386.
X-WR-RELCALID:064790cf3a743cb3465024da3824faad
X-WR-TIMEZONE:America/New_York
BEGIN:VTIMEZONE
TZID:America/New_York
BEGIN:STANDARD
TZNAME:EST
DTSTART:20161106T020000
TZOFFSETFROM:-0400
TZOFFSETTO:-0500
RDATE:20171105T020000
RDATE:20181104T020000
END:STANDARD
BEGIN:DAYLIGHT
TZNAME:EDT
DTSTART:20170312T020000
TZOFFSETFROM:-0500
TZOFFSETTO:-0400
RDATE:20180311T020000
END:DAYLIGHT
END:VTIMEZONE
BEGIN:VEVENT
UID:3306e80b-03ed-406d-93fc-740c50a42a0e
DTSTAMP:20260423T182240Z
DESCRIPTION:For more information\, visit CharlestonCountyParks.com or call 
 (843) 795-4386.
DTSTART;TZID=America/New_York:20170729T183000
DTEND;TZID=America/New_York:20170729T203000
LOCATION:James Island County Park  Splash Zone
SUMMARY:Special Needs Swim Night
END:VEVENT
END:VCALENDAR
