BEGIN:VCALENDAR
VERSION:2.0
PRODID:-//www.dsalowcountry.org//NONSGML kigkonsult.se iCalcreator 2.30.10/
 /
CALSCALE:GREGORIAN
METHOD:PUBLISH
UID:15846e89-03c4-4c43-a4e7-6081dd841f47
X-WR-CALDESC:For more information\, visit CharlestonCountyParks.com or call
  (843) 795-4386.
X-WR-RELCALID:de9934b88d8cc540bd64a6a029d4344e
X-WR-TIMEZONE:America/New_York
BEGIN:VTIMEZONE
TZID:America/New_York
BEGIN:STANDARD
TZNAME:EST
DTSTART:20161106T020000
TZOFFSETFROM:-0400
TZOFFSETTO:-0500
RDATE:20171105T020000
RDATE:20181104T020000
END:STANDARD
BEGIN:DAYLIGHT
TZNAME:EDT
DTSTART:20170312T020000
TZOFFSETFROM:-0500
TZOFFSETTO:-0400
RDATE:20180311T020000
END:DAYLIGHT
END:VTIMEZONE
BEGIN:VEVENT
UID:7b538633-4f32-49c1-af83-63439799904f
DTSTAMP:20260423T163942Z
DESCRIPTION:For more information\, visit CharlestonCountyParks.com or call 
 (843) 795-4386.
DTSTART;TZID=America/New_York:20170818T180000
DTEND;TZID=America/New_York:20170818T200000
LOCATION:Arthur Christopher Center
SUMMARY:Special Needs Prom
END:VEVENT
END:VCALENDAR
