BEGIN:VCALENDAR
VERSION:2.0
PRODID:-//www.dsalowcountry.org//NONSGML kigkonsult.se iCalcreator 2.30.10/
 /
CALSCALE:GREGORIAN
METHOD:PUBLISH
UID:6e22be52-eed8-457f-bb82-4f64bb0f310a
X-WR-CALDESC:Under 3 - 1-1:45\nAge 3-7 1:45-2:30\nEmail dsalowcountry@gmail
 .com to rsvp
X-WR-RELCALID:0b9b427a617d5c33a1933fd8de1f9361
X-WR-TIMEZONE:America/New_York
BEGIN:VTIMEZONE
TZID:America/New_York
BEGIN:STANDARD
TZNAME:EST
DTSTART:20161106T020000
TZOFFSETFROM:-0400
TZOFFSETTO:-0500
RDATE:20171105T020000
RDATE:20181104T020000
END:STANDARD
BEGIN:DAYLIGHT
TZNAME:EDT
DTSTART:20170312T020000
TZOFFSETFROM:-0500
TZOFFSETTO:-0400
RDATE:20180311T020000
END:DAYLIGHT
END:VTIMEZONE
BEGIN:VEVENT
UID:7ef9ad64-bdde-411f-9ecf-3b82622ec815
DTSTAMP:20260423T170332Z
DESCRIPTION:Under 3 - 1-1:45\nAge 3-7 1:45-2:30\nEmail dsalowcountry@gmail.
 com to rsvp
DTSTART;TZID=America/New_York:20170826T130000
DTEND;TZID=America/New_York:20170826T143000
LOCATION:Little Gym of Summerville
SUMMARY:Play Date for under 3s and 3-7
END:VEVENT
END:VCALENDAR
