BEGIN:VCALENDAR
VERSION:2.0
PRODID:-//www.dsalowcountry.org//NONSGML kigkonsult.se iCalcreator 2.30.10/
 /
CALSCALE:GREGORIAN
METHOD:PUBLISH
UID:ce9b1930-01d6-4547-81f4-1b5a254775e5
X-WR-CALDESC:Ten-week Course - The Heart of the Caregiver: From Overwhelmed
  to Overjoyed\nTuesdays at 6:30PM September 12 - November 7\, 2017\n\nFeel
 ing lost in the shuffle of caring for others?  Has caring for another over
 whelmed you - affecting your emotions\, relationships and faith?   Whether
  you are the parent of a child with disabilities\, a child caring for a pa
 rent with Alzheimers\, or someone caring for a sick spouse\, learn how to 
 let God love you and others THROUGH you. This is a 10-week course that inc
 ludes a workbook that is available for purchase at the Seacoast bookstore.
 \n\nChild care is available and cost $5/child per evening ($10 maximum per
  family). Child care is located at Central Park and can be paid for at the
  time you drop off your children.\n\nClick here for more info and to regis
 ter: http://www.seacoast.org/mount-pleasant/events/heart-of-a-caregiver-fa
 ll2017/2017-09-12+18%3A30%3A00
X-WR-RELCALID:b9e489629c31d7fb9bc0a08030f9e05f
X-WR-TIMEZONE:America/New_York
BEGIN:VTIMEZONE
TZID:America/New_York
BEGIN:STANDARD
TZNAME:EST
DTSTART:20161106T020000
TZOFFSETFROM:-0400
TZOFFSETTO:-0500
RDATE:20171105T020000
RDATE:20181104T020000
END:STANDARD
BEGIN:DAYLIGHT
TZNAME:EDT
DTSTART:20170312T020000
TZOFFSETFROM:-0500
TZOFFSETTO:-0400
RDATE:20180311T020000
RDATE:20190310T020000
END:DAYLIGHT
END:VTIMEZONE
BEGIN:VEVENT
UID:da70607a-3960-4481-86ec-1a1ed0b3f698
DTSTAMP:20260423T150256Z
DESCRIPTION:Ten-week Course - The Heart of the Caregiver: From Overwhelmed 
 to Overjoyed\nTuesdays at 6:30PM September 12 - November 7\, 2017\n\nFeeli
 ng lost in the shuffle of caring for others?  Has caring for another overw
 helmed you - affecting your emotions\, relationships and faith?   Whether 
 you are the parent of a child with disabilities\, a child caring for a par
 ent with Alzheimers\, or someone caring for a sick spouse\, learn how to l
 et God love you and others THROUGH you. This is a 10-week course that incl
 udes a workbook that is available for purchase at the Seacoast bookstore.
 \n\nChild care is available and cost $5/child per evening ($10 maximum per
  family). Child care is located at Central Park and can be paid for at the
  time you drop off your children.\n\nClick here for more info and to regis
 ter: http://www.seacoast.org/mount-pleasant/events/heart-of-a-caregiver-fa
 ll2017/2017-09-12+18%3A30%3A00
DTSTART;TZID=America/New_York:20170912T183000
DTEND;TZID=America/New_York:20170912T193000
LOCATION:Seacoast - Mt Pleasant Campus
SUMMARY:The Heart of the Caregiver: From Overwhelmed to Overjoyed
END:VEVENT
END:VCALENDAR
