BEGIN:VCALENDAR
VERSION:2.0
PRODID:-//www.dsalowcountry.org//NONSGML kigkonsult.se iCalcreator 2.30.10/
 /
CALSCALE:GREGORIAN
METHOD:PUBLISH
UID:bd3c8de1-86da-4eda-970e-83f0b2a52f7d
X-WR-CALDESC:https://www.facebook.com/lowcountrygivingday/ \nDSAL is joinin
 g over 140 local nonprofits in a  day for people to give online or come ou
 t to The Joe for music\, food\, and fun. Meet other organizations and find
  ways to give time or money to support them. Please spread the word and en
 courage folks you know to support DSAL and this event! \n
X-WR-RELCALID:8b913cfc569350e74d877366cc2e6eeb
X-WR-TIMEZONE:America/New_York
BEGIN:VTIMEZONE
TZID:America/New_York
BEGIN:STANDARD
TZNAME:EST
DTSTART:20161106T020000
TZOFFSETFROM:-0400
TZOFFSETTO:-0500
RDATE:20171105T020000
RDATE:20181104T020000
END:STANDARD
BEGIN:DAYLIGHT
TZNAME:EDT
DTSTART:20170312T020000
TZOFFSETFROM:-0500
TZOFFSETTO:-0400
RDATE:20180311T020000
RDATE:20190310T020000
END:DAYLIGHT
END:VTIMEZONE
BEGIN:VEVENT
UID:408599ae-ac5b-4cd5-b34c-1c7e1df11a9b
DTSTAMP:20260423T145846Z
DESCRIPTION:https://www.facebook.com/lowcountrygivingday/ \nDSAL is joining
  over 140 local nonprofits in a  day for people to give online or come out
  to The Joe for music\, food\, and fun. Meet other organizations and find 
 ways to give time or money to support them. Please spread the word and enc
 ourage folks you know to support DSAL and this event! \n
DTSTART;TZID=America/New_York:20170919T100000
DTEND;TZID=America/New_York:20170919T220000
LOCATION:
SUMMARY:Lowcountry Giving Day
END:VEVENT
END:VCALENDAR
