BEGIN:VCALENDAR
VERSION:2.0
PRODID:-//www.dsalowcountry.org//NONSGML kigkonsult.se iCalcreator 2.30.10/
 /
CALSCALE:GREGORIAN
METHOD:PUBLISH
UID:fa1513b7-9cc5-49d2-b389-34c67c02cdf7
X-WR-CALDESC:This event is for members with DS ages 11-18. If you did not g
 et an Evite\, contact Erica.
X-WR-RELCALID:c0ee87569ae8e9fd24676f32de215348
X-WR-TIMEZONE:America/New_York
BEGIN:VTIMEZONE
TZID:America/New_York
BEGIN:STANDARD
TZNAME:EST
DTSTART:20161106T020000
TZOFFSETFROM:-0400
TZOFFSETTO:-0500
RDATE:20171105T020000
RDATE:20181104T020000
END:STANDARD
BEGIN:DAYLIGHT
TZNAME:EDT
DTSTART:20170312T020000
TZOFFSETFROM:-0500
TZOFFSETTO:-0400
RDATE:20180311T020000
RDATE:20190310T020000
END:DAYLIGHT
END:VTIMEZONE
BEGIN:VEVENT
UID:808f0997-0fa9-4ffe-83c3-9f90bfcdc3be
DTSTAMP:20260423T150445Z
DESCRIPTION:This event is for members with DS ages 11-18. If you did not ge
 t an Evite\, contact Erica.
DTSTART;TZID=America/New_York:20170922T181500
DTEND;TZID=America/New_York:20170922T193000
LOCATION:
SUMMARY:Buddy Jump at Velocity Air Sports
END:VEVENT
END:VCALENDAR
