BEGIN:VCALENDAR
VERSION:2.0
PRODID:-//www.dsalowcountry.org//NONSGML kigkonsult.se iCalcreator 2.30.10/
 /
CALSCALE:GREGORIAN
METHOD:PUBLISH
UID:11860d69-6f2c-4132-a23a-257ba41354ad
X-WR-CALDESC:For more information\, visit CharlestonCountyParks.com or call
  (843) 795-4386.
X-WR-RELCALID:79d0bee1b1d1cb7a47f30509365f1990
X-WR-TIMEZONE:America/New_York
BEGIN:VTIMEZONE
TZID:America/New_York
BEGIN:STANDARD
TZNAME:EST
DTSTART:20161106T020000
TZOFFSETFROM:-0400
TZOFFSETTO:-0500
RDATE:20171105T020000
RDATE:20181104T020000
END:STANDARD
BEGIN:DAYLIGHT
TZNAME:EDT
DTSTART:20170312T020000
TZOFFSETFROM:-0500
TZOFFSETTO:-0400
RDATE:20180311T020000
RDATE:20190310T020000
END:DAYLIGHT
END:VTIMEZONE
BEGIN:VEVENT
UID:86495123-0232-4192-ae50-ed233ee7df5c
DTSTAMP:20260423T150028Z
DESCRIPTION:For more information\, visit CharlestonCountyParks.com or call 
 (843) 795-4386.
DTSTART;TZID=America/New_York:20170923T000000
DTEND;TZID=America/New_York:20170924T235900
LOCATION:James Island County Park &  Folly Beach County Park
SUMMARY:Adaptive Recreation Expo Weekend
END:VEVENT
END:VCALENDAR
