BEGIN:VCALENDAR
VERSION:2.0
PRODID:-//www.dsalowcountry.org//NONSGML kigkonsult.se iCalcreator 2.30.10/
 /
CALSCALE:GREGORIAN
METHOD:PUBLISH
UID:1bd626da-c7ff-4b5d-b628-688f6f3c241b
X-WR-CALDESC:
X-WR-RELCALID:5964a9bb38a16e9769e48e08a256b5ef
X-WR-TIMEZONE:America/New_York
BEGIN:VTIMEZONE
TZID:America/New_York
BEGIN:STANDARD
TZNAME:EST
DTSTART:20161106T020000
TZOFFSETFROM:-0400
TZOFFSETTO:-0500
RDATE:20171105T020000
RDATE:20181104T020000
END:STANDARD
BEGIN:DAYLIGHT
TZNAME:EDT
DTSTART:20170312T020000
TZOFFSETFROM:-0500
TZOFFSETTO:-0400
RDATE:20180311T020000
RDATE:20190310T020000
END:DAYLIGHT
END:VTIMEZONE
BEGIN:VEVENT
UID:a182bd28-0c5e-40f0-a059-77a7cf0f2e32
DTSTAMP:20260423T133213Z
DESCRIPTION:
DTSTART;TZID=America/New_York:20171001T120000
DTEND;TZID=America/New_York:20171001T160000
LOCATION:Etiwan Park\, Daniel Island
SUMMARY:Buddy Walk 2017
END:VEVENT
END:VCALENDAR
