BEGIN:VCALENDAR
VERSION:2.0
PRODID:-//www.dsalowcountry.org//NONSGML kigkonsult.se iCalcreator 2.30.10/
 /
CALSCALE:GREGORIAN
METHOD:PUBLISH
UID:c44d2fee-a3d4-4a7a-850c-23424ba2770e
X-WR-CALDESC:Games are at at noon and at 1 PM. Registration information is 
 on the website at http://www.charlestonmiracleleague.org/sign_up/.
X-WR-RELCALID:200b207ca971ff5c2f2cac0b28e65b74
X-WR-TIMEZONE:America/New_York
BEGIN:VTIMEZONE
TZID:America/New_York
BEGIN:STANDARD
TZNAME:EST
DTSTART:20161106T020000
TZOFFSETFROM:-0400
TZOFFSETTO:-0500
RDATE:20171105T020000
RDATE:20181104T020000
END:STANDARD
BEGIN:DAYLIGHT
TZNAME:EDT
DTSTART:20170312T020000
TZOFFSETFROM:-0500
TZOFFSETTO:-0400
RDATE:20180311T020000
RDATE:20190310T020000
END:DAYLIGHT
END:VTIMEZONE
BEGIN:VEVENT
UID:64e823ad-de15-4816-b6d8-0abbd21bcf1e
DTSTAMP:20260423T132440Z
DESCRIPTION:Games are at at noon and at 1 PM. Registration information is o
 n the website at http://www.charlestonmiracleleague.org/sign_up/.
DTSTART;TZID=America/New_York:20171021T120000
DTEND;TZID=America/New_York:20171021T140000
LOCATION:Forest Park Playground\, 780 Playground Rd\, Charleston\, SC 29407
SUMMARY:The Charleston Miracle League- Youth League Baseball Game
END:VEVENT
END:VCALENDAR
