BEGIN:VCALENDAR
VERSION:2.0
PRODID:-//www.dsalowcountry.org//NONSGML kigkonsult.se iCalcreator 2.30.10/
 /
CALSCALE:GREGORIAN
METHOD:PUBLISH
UID:db005e70-0122-4852-911e-d7e1bb78a83a
X-WR-CALDESC:Mark your calendars! The family friendly television network\, 
 INSP\, airs a show called Handcrafted America\, which features artisans fr
 om across the country. Our local favorite artist\, Christian Royal\, is go
 ing to be featured as one of the artisans in the current season of the sho
 w!\n \nINSP is going to be hosting an event with Comcast at the XFINITY st
 ore in Mount Pleasant on Saturday 10/21 from 11am-1pm. This is a partnersh
 ip event with Comcast\, where INSP basically throw a huge party at the sto
 re for customers to enjoy free food\, a photo booth\, face painting for th
 e kids\, and a spin wheel and raffle to give away prizes. They will also b
 e spinning the wheel to determine a donation to DSAL thanks to the Royal f
 amily who chose us as the charity to benefit!\n\nI do not know when Christ
 ian's episode will air but please come out to the Comcast event to support
  Christian and show INSP all of the DSAL families who love Christian and e
 ach other in this area!\n\nWhen: October 21st 11am-1pm\nWhere: Xfinity Sto
 re - 1102 Bowman Rd Suite 100\, Mt Pleasant\, SC 29464
X-WR-RELCALID:ad6f8483c75a3a1b18119d609d1c9eee
X-WR-TIMEZONE:America/New_York
BEGIN:VTIMEZONE
TZID:America/New_York
BEGIN:STANDARD
TZNAME:EST
DTSTART:20161106T020000
TZOFFSETFROM:-0400
TZOFFSETTO:-0500
RDATE:20171105T020000
RDATE:20181104T020000
END:STANDARD
BEGIN:DAYLIGHT
TZNAME:EDT
DTSTART:20170312T020000
TZOFFSETFROM:-0500
TZOFFSETTO:-0400
RDATE:20180311T020000
RDATE:20190310T020000
END:DAYLIGHT
END:VTIMEZONE
BEGIN:VEVENT
UID:73884425-9787-4821-9553-037fa3ef01c7
DTSTAMP:20260423T134613Z
DESCRIPTION:Mark your calendars! The family friendly television network\, I
 NSP\, airs a show called Handcrafted America\, which features artisans fro
 m across the country. Our local favorite artist\, Christian Royal\, is goi
 ng to be featured as one of the artisans in the current season of the show
 !\n \nINSP is going to be hosting an event with Comcast at the XFINITY sto
 re in Mount Pleasant on Saturday 10/21 from 11am-1pm. This is a partnershi
 p event with Comcast\, where INSP basically throw a huge party at the stor
 e for customers to enjoy free food\, a photo booth\, face painting for the
  kids\, and a spin wheel and raffle to give away prizes. They will also be
  spinning the wheel to determine a donation to DSAL thanks to the Royal fa
 mily who chose us as the charity to benefit!\n\nI do not know when Christi
 an's episode will air but please come out to the Comcast event to support 
 Christian and show INSP all of the DSAL families who love Christian and ea
 ch other in this area!\n\nWhen: October 21st 11am-1pm\nWhere: Xfinity Stor
 e - 1102 Bowman Rd Suite 100\, Mt Pleasant\, SC 29464
DTSTART;TZID=America/New_York:20171021T110000
DTEND;TZID=America/New_York:20171021T130000
LOCATION:Xfinity Store - 1102 Bowman Rd Suite 100\, Mt Pleasant\, SC 29464
SUMMARY:Christian Royal INSP Event
END:VEVENT
END:VCALENDAR
