BEGIN:VCALENDAR
VERSION:2.0
PRODID:-//www.dsalowcountry.org//NONSGML kigkonsult.se iCalcreator 2.30.10/
 /
CALSCALE:GREGORIAN
METHOD:PUBLISH
UID:ff95acb7-36ca-4db4-b668-b67686b288c1
X-WR-CALDESC:Games are at at noon and at 1 PM. Registration information is 
 on the website at http://www.charlestonmiracleleague.org/sign_up/.
X-WR-RELCALID:7fe88062e529e3ea446cff959101e86c
X-WR-TIMEZONE:America/New_York
BEGIN:VTIMEZONE
TZID:America/New_York
BEGIN:STANDARD
TZNAME:EST
DTSTART:20161106T020000
TZOFFSETFROM:-0400
TZOFFSETTO:-0500
RDATE:20171105T020000
RDATE:20181104T020000
END:STANDARD
BEGIN:DAYLIGHT
TZNAME:EDT
DTSTART:20170312T020000
TZOFFSETFROM:-0500
TZOFFSETTO:-0400
RDATE:20180311T020000
RDATE:20190310T020000
END:DAYLIGHT
END:VTIMEZONE
BEGIN:VEVENT
UID:4a48887f-4435-4e13-9fe2-3bb5571356ac
DTSTAMP:20260423T115854Z
DESCRIPTION:Games are at at noon and at 1 PM. Registration information is o
 n the website at http://www.charlestonmiracleleague.org/sign_up/.
DTSTART;TZID=America/New_York:20171104T120000
DTEND;TZID=America/New_York:20171104T140000
LOCATION:Forest Park Playground\, 780 Playground Rd\, Charleston\, SC 29407
SUMMARY:The Charleston Miracle League- Youth League Baseball Game
END:VEVENT
END:VCALENDAR
