BEGIN:VCALENDAR
VERSION:2.0
PRODID:-//www.dsalowcountry.org//NONSGML kigkonsult.se iCalcreator 2.30.10/
 /
CALSCALE:GREGORIAN
METHOD:PUBLISH
UID:296e2271-533f-42a9-87ea-de4cf4374170
X-WR-CALDESC:Starting August 28th\, the not-for- profit organization\, The 
 Purple Tutu will bring the artistry of ballet to dancers with Down Syndrom
 e\, by providing free classes at the Charleston Dance Institute.\nThe Purp
 le Tutu’s mission is to encourage dancers that they are capable of classic
 al dance training from a unifying experience. In 2014\, the founder\, Holl
 and Mcdowell took action to achieve this goal. “Going into it\, I was expe
 cting to see improvements in physical ability. What I didn’t realize was t
 he potential for the dancers to gain confidence\, learn respect\, and deve
 lop discipline\,” said Mcdowell.\nVolunteers\, children 4-10 and their fam
 ilies are welcomed to the thirty minute practice every Monday at 4 PM in s
 tudio\, which is located at 494 Wando Park Boulevard\, Mount Pleasant\, SC
  29464.\nParticipants are advised to wear sweatpants/ yoga pants\, a t-shi
 rt\, and bare feet. The tutus will be provided for class use.\nIf you woul
 d like to participate in the program\, donate to The Purple Tutu or intere
 sted in an interview\, please email thepurpletutuballet@gmail.com
X-WR-RELCALID:0c66c69ff3a70af44fd88d33b3a0536e
X-WR-TIMEZONE:America/New_York
BEGIN:VTIMEZONE
TZID:America/New_York
BEGIN:STANDARD
TZNAME:EST
DTSTART:20171105T020000
TZOFFSETFROM:-0400
TZOFFSETTO:-0500
RDATE:20181104T020000
END:STANDARD
BEGIN:DAYLIGHT
TZNAME:EDT
DTSTART:20170312T020000
TZOFFSETFROM:-0500
TZOFFSETTO:-0400
RDATE:20180311T020000
RDATE:20190310T020000
END:DAYLIGHT
END:VTIMEZONE
BEGIN:VEVENT
UID:279f24cd-be3a-4fa3-b7c1-c96f65223689
DTSTAMP:20260423T120027Z
DESCRIPTION:Starting August 28th\, the not-for- profit organization\, The P
 urple Tutu will bring the artistry of ballet to dancers with Down Syndrome
 \, by providing free classes at the Charleston Dance Institute.\nThe Purpl
 e Tutu’s mission is to encourage dancers that they are capable of classica
 l dance training from a unifying experience. In 2014\, the founder\, Holla
 nd Mcdowell took action to achieve this goal. “Going into it\, I was expec
 ting to see improvements in physical ability. What I didn’t realize was th
 e potential for the dancers to gain confidence\, learn respect\, and devel
 op discipline\,” said Mcdowell.\nVolunteers\, children 4-10 and their fami
 lies are welcomed to the thirty minute practice every Monday at 4 PM in st
 udio\, which is located at 494 Wando Park Boulevard\, Mount Pleasant\, SC 
 29464.\nParticipants are advised to wear sweatpants/ yoga pants\, a t-shir
 t\, and bare feet. The tutus will be provided for class use.\nIf you would
  like to participate in the program\, donate to The Purple Tutu or interes
 ted in an interview\, please email thepurpletutuballet@gmail.com
DTSTART;TZID=America/New_York:20171120T160000
DTEND;TZID=America/New_York:20171120T163000
LOCATION:
SUMMARY:Purple Tutu Ballet Classes
END:VEVENT
END:VCALENDAR
