BEGIN:VCALENDAR
VERSION:2.0
PRODID:-//www.dsalowcountry.org//NONSGML kigkonsult.se iCalcreator 2.30.10/
 /
CALSCALE:GREGORIAN
METHOD:PUBLISH
UID:5ec44c84-3025-4922-82c8-35b5a991f875
X-WR-CALDESC:People with special needs and their families and friends are i
 nvited to an unforgettable night! Come dressed in your favorite western ge
 ar to welcome the holiday\, country style! Enjoy light refreshments with M
 rs. Claus and the Holiday Festival of Lights mascot\, Wattson! A chaperone
  is required for participants ages 15 and under. You must call (843) 795-4
 386 to register for this program.\n\nNorth Charleston Wannamaker County Pa
 rk\nCypress Hall\n8888 University Boulevard\nNorth Charleston\, SC 29406\n
 \n$4 per person. Free for chaperones.
X-WR-RELCALID:9c1a6ce0b3a6daee000ea73e3cb94d03
X-WR-TIMEZONE:America/New_York
BEGIN:VTIMEZONE
TZID:America/New_York
BEGIN:STANDARD
TZNAME:EST
DTSTART:20171105T020000
TZOFFSETFROM:-0400
TZOFFSETTO:-0500
RDATE:20181104T020000
END:STANDARD
BEGIN:DAYLIGHT
TZNAME:EDT
DTSTART:20170312T020000
TZOFFSETFROM:-0500
TZOFFSETTO:-0400
RDATE:20180311T020000
RDATE:20190310T020000
END:DAYLIGHT
END:VTIMEZONE
BEGIN:VEVENT
UID:bfd1f124-8258-4d62-938f-5f8ffc9cb8fc
DTSTAMP:20260423T101608Z
DESCRIPTION:People with special needs and their families and friends are in
 vited to an unforgettable night! Come dressed in your favorite western gea
 r to welcome the holiday\, country style! Enjoy light refreshments with Mr
 s. Claus and the Holiday Festival of Lights mascot\, Wattson! A chaperone 
 is required for participants ages 15 and under. You must call (843) 795-43
 86 to register for this program.\n\nNorth Charleston Wannamaker County Par
 k\nCypress Hall\n8888 University Boulevard\nNorth Charleston\, SC 29406\n
 \n$4 per person. Free for chaperones.
DTSTART;TZID=America/New_York:20171207T180000
DTEND;TZID=America/New_York:20171207T200000
LOCATION:North Charleston Wannamaker County Park\, Cypress Hall
SUMMARY:Holiday Hoedown
END:VEVENT
END:VCALENDAR
