BEGIN:VCALENDAR
VERSION:2.0
PRODID:-//www.dsalowcountry.org//NONSGML kigkonsult.se iCalcreator 2.30.10/
 /
CALSCALE:GREGORIAN
METHOD:PUBLISH
UID:1af49e68-0806-4912-b85d-11a3fdf8b357
X-WR-CALDESC:Come celebrate the new year with our DSAL family! Evite to go 
 out in December.
X-WR-RELCALID:416a902e0cfcdb364a741949a29cc091
X-WR-TIMEZONE:America/New_York
BEGIN:VTIMEZONE
TZID:America/New_York
BEGIN:STANDARD
TZNAME:EST
DTSTART:20171105T020000
TZOFFSETFROM:-0400
TZOFFSETTO:-0500
RDATE:20181104T020000
END:STANDARD
BEGIN:DAYLIGHT
TZNAME:EDT
DTSTART:20170312T020000
TZOFFSETFROM:-0500
TZOFFSETTO:-0400
RDATE:20180311T020000
RDATE:20190310T020000
END:DAYLIGHT
END:VTIMEZONE
BEGIN:VEVENT
UID:f0181fb7-ad66-4b66-bf68-5ff5c17d003d
DTSTAMP:20260423T084704Z
DESCRIPTION:Come celebrate the new year with our DSAL family! Evite to go o
 ut in December.
DTSTART;TZID=America/New_York:20180106T140000
DTEND;TZID=America/New_York:20180106T173000
LOCATION:Wild Dunes Resort
SUMMARY:DSAL New Year's Party
END:VEVENT
END:VCALENDAR
