BEGIN:VCALENDAR
VERSION:2.0
PRODID:-//www.dsalowcountry.org//NONSGML kigkonsult.se iCalcreator 2.30.10/
 /
CALSCALE:GREGORIAN
METHOD:PUBLISH
UID:518eee57-4e9e-41fb-a7f2-ebe798f30937
X-WR-CALDESC:Winter Wonderland Dance for individuals with Special Needs. \n
 Music\, dancing\, refreshments\, photos\, socializing\, and fun! Open to i
 ndividuals with special needs ages 15 and up and their caregivers/family. 
 \nPer person: $5 for residents\, $7 for non-residents\nPre-registration re
 quired by Jan 5th.
X-WR-RELCALID:a1afd6c4b30dbe46acf7c2466b2b7a3a
X-WR-TIMEZONE:America/New_York
BEGIN:VTIMEZONE
TZID:America/New_York
BEGIN:STANDARD
TZNAME:EST
DTSTART:20171105T020000
TZOFFSETFROM:-0400
TZOFFSETTO:-0500
RDATE:20181104T020000
END:STANDARD
BEGIN:DAYLIGHT
TZNAME:EDT
DTSTART:20170312T020000
TZOFFSETFROM:-0500
TZOFFSETTO:-0400
RDATE:20180311T020000
RDATE:20190310T020000
END:DAYLIGHT
END:VTIMEZONE
BEGIN:VEVENT
UID:9eecd708-1ec1-4d66-a043-1c434627a1a2
DTSTAMP:20260423T092707Z
DESCRIPTION:Winter Wonderland Dance for individuals with Special Needs. \nM
 usic\, dancing\, refreshments\, photos\, socializing\, and fun! Open to in
 dividuals with special needs ages 15 and up and their caregivers/family. 
 \nPer person: $5 for residents\, $7 for non-residents\nPre-registration re
 quired by Jan 5th.
DTSTART;TZID=America/New_York:20180112T180000
DTEND;TZID=America/New_York:20180112T200000
LOCATION:Goose Creek Community Center\, 519A N. Goose Creek Blvd
SUMMARY:Winter Wonderland Dance
END:VEVENT
END:VCALENDAR
