BEGIN:VCALENDAR
VERSION:2.0
PRODID:-//www.dsalowcountry.org//NONSGML kigkonsult.se iCalcreator 2.30.10/
 /
CALSCALE:GREGORIAN
METHOD:PUBLISH
UID:4213b249-c301-4dc5-a674-6ab23204ac8c
X-WR-CALDESC:There are several events this Feb 9th. First Baptist of Jedbur
 g is hosting a Night to Shine and Seacoast is hosting is annual Luke 14 Ba
 nquet at their Mt Pleasant and Summerville locations (the Summerville even
 t is not tied to Night to Shine/Tim Tebow). \nInformation links are below.
 \n\nFirst Baptist Church of Jedburg\nhttp://fbcjedburg.org/ministry-events
 /night-to-shine\n\nSeacoast Church Mt Pleasant\nhttps://my.seacoast.org/po
 rtal/event_detail.aspx?id=20985\n\nSeacoast Church Summerville\nhttps://my
 .seacoast.org/portal/event_detail.aspx?id=21293
X-WR-RELCALID:350d2b6fa47726af325149a59512e6bb
X-WR-TIMEZONE:America/New_York
BEGIN:VTIMEZONE
TZID:America/New_York
BEGIN:STANDARD
TZNAME:EST
DTSTART:20171105T020000
TZOFFSETFROM:-0400
TZOFFSETTO:-0500
RDATE:20181104T020000
END:STANDARD
BEGIN:DAYLIGHT
TZNAME:EDT
DTSTART:20170312T020000
TZOFFSETFROM:-0500
TZOFFSETTO:-0400
RDATE:20180311T020000
RDATE:20190310T020000
END:DAYLIGHT
END:VTIMEZONE
BEGIN:VEVENT
UID:5c9acabc-533b-47e6-b933-913794bbcd0a
DTSTAMP:20260423T071007Z
DESCRIPTION:There are several events this Feb 9th. First Baptist of Jedburg
  is hosting a Night to Shine and Seacoast is hosting is annual Luke 14 Ban
 quet at their Mt Pleasant and Summerville locations (the Summerville event
  is not tied to Night to Shine/Tim Tebow). \nInformation links are below.
 \n\nFirst Baptist Church of Jedburg\nhttp://fbcjedburg.org/ministry-events
 /night-to-shine\n\nSeacoast Church Mt Pleasant\nhttps://my.seacoast.org/po
 rtal/event_detail.aspx?id=20985\n\nSeacoast Church Summerville\nhttps://my
 .seacoast.org/portal/event_detail.aspx?id=21293
DTSTART;TZID=America/New_York:20180209T180000
DTEND;TZID=America/New_York:20180209T210000
LOCATION:
SUMMARY:Night to Shine
END:VEVENT
END:VCALENDAR
