BEGIN:VCALENDAR
VERSION:2.0
PRODID:-//www.dsalowcountry.org//NONSGML kigkonsult.se iCalcreator 2.30.10/
 /
CALSCALE:GREGORIAN
METHOD:PUBLISH
UID:7b1d8f04-5e5f-4a53-a329-3f574446e58e
X-WR-CALDESC:Workshops presented by Terri Couwenhoven.\nTerri Couwenhoven M
 S is a Certified Sex Educator who specializes in designing and implementin
 g sexuality programs and materials for people with intellectual disabiliti
 es\, families and professionals. Her puberty workshops help families learn
  together in a comfortable\, safe\, and fun environment. Concrete teaching
  methods (videos\, slides\, pictures\, games\, activities) are used to imp
 rove comprehension and help parents become more comfortable and confident 
 helping their children understand body changes\, self-care\, and appropria
 te social behavior. For more information visit www.terricouwenhoven.com.\n
 \nPlease be sure to sign up for a workshop in advance to guarantee a spot.
  Workshops are free of charge to DSAL members but space will be limited. 
 \n\n9:30 – Check in and refreshments\n10:00-11:30 - Workshop for Parents\n
 11:30-12:30 – Lunch – Boxed lunch available by request for $10\n12:30-2:30
  – Parent/Daughter workshop\n3:00-5:00 – Parent/Son workshop\n
X-WR-RELCALID:2ab7bc54f9cb5ebf8b1222068ff677d6
X-WR-TIMEZONE:America/New_York
BEGIN:VTIMEZONE
TZID:America/New_York
BEGIN:STANDARD
TZNAME:EST
DTSTART:20171105T020000
TZOFFSETFROM:-0400
TZOFFSETTO:-0500
RDATE:20181104T020000
END:STANDARD
BEGIN:DAYLIGHT
TZNAME:EDT
DTSTART:20170312T020000
TZOFFSETFROM:-0500
TZOFFSETTO:-0400
RDATE:20180311T020000
RDATE:20190310T020000
END:DAYLIGHT
END:VTIMEZONE
BEGIN:VEVENT
UID:e751c7a5-0306-4952-85f1-0c0334718366
DTSTAMP:20260423T070133Z
DESCRIPTION:Workshops presented by Terri Couwenhoven.\nTerri Couwenhoven MS
  is a Certified Sex Educator who specializes in designing and implementing
  sexuality programs and materials for people with intellectual disabilitie
 s\, families and professionals. Her puberty workshops help families learn 
 together in a comfortable\, safe\, and fun environment. Concrete teaching 
 methods (videos\, slides\, pictures\, games\, activities) are used to impr
 ove comprehension and help parents become more comfortable and confident h
 elping their children understand body changes\, self-care\, and appropriat
 e social behavior. For more information visit www.terricouwenhoven.com.\n
 \nPlease be sure to sign up for a workshop in advance to guarantee a spot.
  Workshops are free of charge to DSAL members but space will be limited. 
 \n\n9:30 – Check in and refreshments\n10:00-11:30 - Workshop for Parents\n
 11:30-12:30 – Lunch – Boxed lunch available by request for $10\n12:30-2:30
  – Parent/Daughter workshop\n3:00-5:00 – Parent/Son workshop\n
DTSTART;TZID=America/New_York:20180210T090000
DTEND;TZID=America/New_York:20180210T170000
LOCATION:Grace United Methodist Church
SUMMARY:Puberty Workshops
END:VEVENT
END:VCALENDAR
