BEGIN:VCALENDAR
VERSION:2.0
PRODID:-//www.dsalowcountry.org//NONSGML kigkonsult.se iCalcreator 2.30.10/
 /
CALSCALE:GREGORIAN
METHOD:PUBLISH
UID:96d67195-1ebe-495e-90e3-1bbe76f9da5b
X-WR-CALDESC:We will be having another Little Gym play date at the Little G
 ym in Summerville (http://www.thelittlegym.com/SummervilleSC) on Saturday\
 , March 24th. We will have one session for kids under age 3 from 2:00-2:45
  pm and one session for kids age 3-7 from 2:45-3:30 pm. If littles want to
  hang around a while longer or if the older kids want to come a few minute
 s early\, it is okay for us to overlap somewhat. Expectant families are ab
 solutely encouraged to join us!!!\n\nI am hoping to see you guys there. Th
 is is free for our families but for gym staffing purposes\, it would be he
 lpful if you would RSVP if you are going to attend. We can include sibling
 s if they are in same age range as that session and if we were not at part
 y capacity with DSAL kiddos. If childcare for other siblings will be an is
 sue\, perhaps we could help each other out with that by having those in th
 e same area combine babysitting efforts? There is a waiting area at the gy
 m where older kids are welcome to hang out with a book\, ipad\, etc. with 
 large windows through which you could see them. There is also a sandwich s
 hop (Jimmy Johns) in the same shopping center if older kids (and younger k
 ids with other caregivers?) want to go there during the play date.\n\nRSVP
  if you'll be joining us. Looking forward to seeing you there!!
X-WR-RELCALID:8ebe99a24d4d7296457e9b5c5d391158
X-WR-TIMEZONE:America/New_York
BEGIN:VTIMEZONE
TZID:America/New_York
BEGIN:STANDARD
TZNAME:EST
DTSTART:20171105T020000
TZOFFSETFROM:-0400
TZOFFSETTO:-0500
RDATE:20181104T020000
END:STANDARD
BEGIN:DAYLIGHT
TZNAME:EDT
DTSTART:20180311T020000
TZOFFSETFROM:-0500
TZOFFSETTO:-0400
RDATE:20190310T020000
END:DAYLIGHT
END:VTIMEZONE
BEGIN:VEVENT
UID:6cb19492-3b2b-4dd5-9863-407fc982d685
DTSTAMP:20260423T051617Z
DESCRIPTION:We will be having another Little Gym play date at the Little Gy
 m in Summerville (http://www.thelittlegym.com/SummervilleSC) on Saturday\,
  March 24th. We will have one session for kids under age 3 from 2:00-2:45 
 pm and one session for kids age 3-7 from 2:45-3:30 pm. If littles want to 
 hang around a while longer or if the older kids want to come a few minutes
  early\, it is okay for us to overlap somewhat. Expectant families are abs
 olutely encouraged to join us!!!\n\nI am hoping to see you guys there. Thi
 s is free for our families but for gym staffing purposes\, it would be hel
 pful if you would RSVP if you are going to attend. We can include siblings
  if they are in same age range as that session and if we were not at party
  capacity with DSAL kiddos. If childcare for other siblings will be an iss
 ue\, perhaps we could help each other out with that by having those in the
  same area combine babysitting efforts? There is a waiting area at the gym
  where older kids are welcome to hang out with a book\, ipad\, etc. with l
 arge windows through which you could see them. There is also a sandwich sh
 op (Jimmy Johns) in the same shopping center if older kids (and younger ki
 ds with other caregivers?) want to go there during the play date.\n\nRSVP 
 if you'll be joining us. Looking forward to seeing you there!!
DTSTART;TZID=America/New_York:20180324T140000
DTEND;TZID=America/New_York:20180324T153000
LOCATION:Little Gym Summerville: 1201 Old Trolley Road\, Suite C  Summervil
 le\, SC
SUMMARY:Little Gym Playdate for kiddos 0-7
END:VEVENT
END:VCALENDAR
