BEGIN:VCALENDAR
VERSION:2.0
PRODID:-//www.dsalowcountry.org//NONSGML kigkonsult.se iCalcreator 2.30.10/
 /
CALSCALE:GREGORIAN
METHOD:PUBLISH
UID:df62e1a0-e817-4e2b-a5c3-af5bf3a54712
X-WR-CALDESC:Soccer Shots and Vida Bella Services are offering a free socce
 r workshop on Saturday June 9th 10am-12pm. This will be for all ages and a
 ll skill levels for kids with or without special needs. I have attached th
 e flyer for the Soccer Shots Fun Day. This could be a fun thing for our ki
 ds with DS and their friends/sibs to do together.\nIf you are interested\,
  please RSVP by June 6th by contacting Matthew Husband at matthew@vidabell
 asecuremail.com.
X-WR-RELCALID:8e9cbb9bd85a86e80d0c5af045042b86
X-WR-TIMEZONE:America/New_York
BEGIN:VTIMEZONE
TZID:America/New_York
BEGIN:STANDARD
TZNAME:EST
DTSTART:20171105T020000
TZOFFSETFROM:-0400
TZOFFSETTO:-0500
RDATE:20181104T020000
RDATE:20191103T020000
END:STANDARD
BEGIN:DAYLIGHT
TZNAME:EDT
DTSTART:20180311T020000
TZOFFSETFROM:-0500
TZOFFSETTO:-0400
RDATE:20190310T020000
END:DAYLIGHT
END:VTIMEZONE
BEGIN:VEVENT
UID:5af71609-b0f7-4230-9625-6555c5bbeec7
DTSTAMP:20260422T235159Z
DESCRIPTION:Soccer Shots and Vida Bella Services are offering a free soccer
  workshop on Saturday June 9th 10am-12pm. This will be for all ages and al
 l skill levels for kids with or without special needs. I have attached the
  flyer for the Soccer Shots Fun Day. This could be a fun thing for our kid
 s with DS and their friends/sibs to do together.\nIf you are interested\, 
 please RSVP by June 6th by contacting Matthew Husband at matthew@vidabella
 securemail.com.
DTSTART;TZID=America/New_York:20180609T100000
DTEND;TZID=America/New_York:20180609T120000
LOCATION:Aldersgate United Methodist Church\, 1444 Remount Rd\, N Charlesto
 n\, SC 29405
SUMMARY:Free Soccer Workshop
END:VEVENT
END:VCALENDAR
