BEGIN:VCALENDAR
VERSION:2.0
PRODID:-//www.dsalowcountry.org//NONSGML kigkonsult.se iCalcreator 2.30.10/
 /
CALSCALE:GREGORIAN
METHOD:PUBLISH
UID:8caac238-ea6b-4321-b03b-66ab54bc7e78
X-WR-CALDESC:It is time to register for this year's Buddy Camp! For those o
 f you unfamiliar\, Buddy Camp is a day camp for our kiddos with DS ages 3-
 8. Each camper will invite a typical friend to join them at camp. This fri
 end can be a sibling\, schoolmate\, neighbor or any other friend close in 
 age. Camp is June 11-14th\, 9 am to 11:30 am with celebratory lunch on the
  final day (Thursday). Camp will be hosted at Providence Baptist Church on
  Daniel Island (294 Seven Farms Drive\, Daniel Island\, SC 29492). \n\nCam
 pers will enjoy music\, crafts\, and games all lead by volunteers and the 
 wonderful therapists from Coastal Therapy Services. Each pair of buddies w
 ill have a counselor to help the pair navigate the activities for the week
 . \n\nContact Erica (dsalowcountry@gmail.com) for a registration form. Ple
 ase fill one out for your child and give one to the buddy who your child i
 nvites. Registration forms are due by Friday May 25th. Please return regis
 tration forms to Jill Shuler:\nE-mail: jill@coastaltherapyservices.com\nFa
 x: 216-2445\nMail: Coastal Therapy Services\, Inc.\, Attn: Jill Shuler PO 
 Box 1753 Mount Pleasant\, SC 29465\n\nPlease bring registration fees to ca
 mp on Monday June 11th.
X-WR-RELCALID:04041b57d6b0a5049927591910ba5a4c
X-WR-TIMEZONE:America/New_York
BEGIN:VTIMEZONE
TZID:America/New_York
BEGIN:STANDARD
TZNAME:EST
DTSTART:20171105T020000
TZOFFSETFROM:-0400
TZOFFSETTO:-0500
RDATE:20181104T020000
RDATE:20191103T020000
END:STANDARD
BEGIN:DAYLIGHT
TZNAME:EDT
DTSTART:20180311T020000
TZOFFSETFROM:-0500
TZOFFSETTO:-0400
RDATE:20190310T020000
END:DAYLIGHT
END:VTIMEZONE
BEGIN:VEVENT
UID:e98974d0-167a-4604-8ad3-30548c8069e4
DTSTAMP:20260422T234746Z
DESCRIPTION:It is time to register for this year's Buddy Camp! For those of
  you unfamiliar\, Buddy Camp is a day camp for our kiddos with DS ages 3-8
 . Each camper will invite a typical friend to join them at camp. This frie
 nd can be a sibling\, schoolmate\, neighbor or any other friend close in a
 ge. Camp is June 11-14th\, 9 am to 11:30 am with celebratory lunch on the 
 final day (Thursday). Camp will be hosted at Providence Baptist Church on 
 Daniel Island (294 Seven Farms Drive\, Daniel Island\, SC 29492). \n\nCamp
 ers will enjoy music\, crafts\, and games all lead by volunteers and the w
 onderful therapists from Coastal Therapy Services. Each pair of buddies wi
 ll have a counselor to help the pair navigate the activities for the week.
  \n\nContact Erica (dsalowcountry@gmail.com) for a registration form. Plea
 se fill one out for your child and give one to the buddy who your child in
 vites. Registration forms are due by Friday May 25th. Please return regist
 ration forms to Jill Shuler:\nE-mail: jill@coastaltherapyservices.com\nFax
 : 216-2445\nMail: Coastal Therapy Services\, Inc.\, Attn: Jill Shuler PO B
 ox 1753 Mount Pleasant\, SC 29465\n\nPlease bring registration fees to cam
 p on Monday June 11th.
DTSTART;TZID=America/New_York:20180611T090000
DTEND;TZID=America/New_York:20180614T113000
LOCATION:Providence Baptist Church\, Daniel Island - Hosted by Coastal Ther
 apy Services
SUMMARY:Buddy Camp
END:VEVENT
END:VCALENDAR
