BEGIN:VCALENDAR
VERSION:2.0
PRODID:-//www.dsalowcountry.org//NONSGML kigkonsult.se iCalcreator 2.30.10/
 /
CALSCALE:GREGORIAN
METHOD:PUBLISH
UID:6c774fc9-450c-421c-95a1-afdf390b5730
X-WR-CALDESC:Special Needs Swim Night Dates Announced!\nPeople with special
  needs\, their caregivers\, and families are invited to three unforgettabl
 e nights at the water parks! Enjoy the lazy river\, race down the slides\,
  and take a leisurely dip in the pool.\n\nWhirling Waters \n$9 per person 
 or free for ages 2 & under and Super Splash Pass holders\nJune 23 6:30 pm-
 8:30 pm\nJuly 14 6:30 pm-8:30 pm\n(Rain Date: July 22)\n\nTo register\, pl
 ease call 843-795-4386 or register online: https://online.activecommunitie
 s.com/charleston/Activities/ActivitiesDetails.asp?aid=2420\n\nA paid chape
 rone is required for all participants. Online registration ends at midnigh
 t on the day before each event. On the day of the event\, admission can be
  purchased by calling 843-795-4386 by 2 p.m. or at the event gate if avail
 able. To avoid the line\, advanced purchase is recommended. If you purchas
 e advanced admission\, you must keep and present your receipt to gain admi
 ssion into the event. Fees listed are per person\, including chaperones an
 d caregivers.
X-WR-RELCALID:7d3f922b5b50bc2858a21ff3680db615
X-WR-TIMEZONE:America/New_York
BEGIN:VTIMEZONE
TZID:America/New_York
BEGIN:STANDARD
TZNAME:EST
DTSTART:20171105T020000
TZOFFSETFROM:-0400
TZOFFSETTO:-0500
RDATE:20181104T020000
RDATE:20191103T020000
END:STANDARD
BEGIN:DAYLIGHT
TZNAME:EDT
DTSTART:20180311T020000
TZOFFSETFROM:-0500
TZOFFSETTO:-0400
RDATE:20190310T020000
END:DAYLIGHT
END:VTIMEZONE
BEGIN:VEVENT
UID:69d925c9-46f5-4e53-8ccb-3c1a02579b46
DTSTAMP:20260422T215518Z
DESCRIPTION:Special Needs Swim Night Dates Announced!\nPeople with special 
 needs\, their caregivers\, and families are invited to three unforgettable
  nights at the water parks! Enjoy the lazy river\, race down the slides\, 
 and take a leisurely dip in the pool.\n\nWhirling Waters \n$9 per person o
 r free for ages 2 & under and Super Splash Pass holders\nJune 23 6:30 pm-8
 :30 pm\nJuly 14 6:30 pm-8:30 pm\n(Rain Date: July 22)\n\nTo register\, ple
 ase call 843-795-4386 or register online: https://online.activecommunities
 .com/charleston/Activities/ActivitiesDetails.asp?aid=2420\n\nA paid chaper
 one is required for all participants. Online registration ends at midnight
  on the day before each event. On the day of the event\, admission can be 
 purchased by calling 843-795-4386 by 2 p.m. or at the event gate if availa
 ble. To avoid the line\, advanced purchase is recommended. If you purchase
  advanced admission\, you must keep and present your receipt to gain admis
 sion into the event. Fees listed are per person\, including chaperones and
  caregivers.
DTSTART;TZID=America/New_York:20180714T183000
DTEND;TZID=America/New_York:20180714T203000
LOCATION:Whirlin' Waters Waterpark
SUMMARY:Special Needs Swim Night
END:VEVENT
END:VCALENDAR
