BEGIN:VCALENDAR
VERSION:2.0
PRODID:-//www.dsalowcountry.org//NONSGML kigkonsult.se iCalcreator 2.30.10/
 /
CALSCALE:GREGORIAN
METHOD:PUBLISH
UID:7fb4fbd2-a886-4d95-a847-0b7a91d75786
X-WR-CALDESC:Special Needs Swim Night Dates Announced!\nPeople with special
  needs\, their caregivers\, and families are invited to three unforgettabl
 e nights at the water parks! Enjoy the lazy river\, race down the slides\,
  and take a leisurely dip in the pool.\n\nSplash Zone\n$7 per person or fr
 ee for ages 2 & under and Super Splash Pass holders\nJuly 28 6:30 pm-8:30 
 pm\n(Rain Date: Aug 4)\n\nTo register\, please call 843-795-4386 or regist
 er online: https://online.activecommunities.com/charleston/Activities/Acti
 vitiesDetails.asp?aid=2420\n\nA paid chaperone is required for all partici
 pants. Online registration ends at midnight on the day before each event. 
 On the day of the event\, admission can be purchased by calling 843-795-43
 86 by 2 p.m. or at the event gate if available. To avoid the line\, advanc
 ed purchase is recommended. If you purchase advanced admission\, you must 
 keep and present your receipt to gain admission into the event. Fees liste
 d are per person\, including chaperones and caregivers.
X-WR-RELCALID:71927fdf59bf25d79983e706750f2954
X-WR-TIMEZONE:America/New_York
BEGIN:VTIMEZONE
TZID:America/New_York
BEGIN:STANDARD
TZNAME:EST
DTSTART:20171105T020000
TZOFFSETFROM:-0400
TZOFFSETTO:-0500
RDATE:20181104T020000
RDATE:20191103T020000
END:STANDARD
BEGIN:DAYLIGHT
TZNAME:EDT
DTSTART:20180311T020000
TZOFFSETFROM:-0500
TZOFFSETTO:-0400
RDATE:20190310T020000
END:DAYLIGHT
END:VTIMEZONE
BEGIN:VEVENT
UID:312ed022-70c6-4745-bcdb-39760f9bc0e4
DTSTAMP:20260422T221731Z
DESCRIPTION:Special Needs Swim Night Dates Announced!\nPeople with special 
 needs\, their caregivers\, and families are invited to three unforgettable
  nights at the water parks! Enjoy the lazy river\, race down the slides\, 
 and take a leisurely dip in the pool.\n\nSplash Zone\n$7 per person or fre
 e for ages 2 & under and Super Splash Pass holders\nJuly 28 6:30 pm-8:30 p
 m\n(Rain Date: Aug 4)\n\nTo register\, please call 843-795-4386 or registe
 r online: https://online.activecommunities.com/charleston/Activities/Activ
 itiesDetails.asp?aid=2420\n\nA paid chaperone is required for all particip
 ants. Online registration ends at midnight on the day before each event. O
 n the day of the event\, admission can be purchased by calling 843-795-438
 6 by 2 p.m. or at the event gate if available. To avoid the line\, advance
 d purchase is recommended. If you purchase advanced admission\, you must k
 eep and present your receipt to gain admission into the event. Fees listed
  are per person\, including chaperones and caregivers.
DTSTART;TZID=America/New_York:20180728T183000
DTEND;TZID=America/New_York:20180728T203000
LOCATION:Splash Zone Waterpark
SUMMARY:Special Needs Swim Night
END:VEVENT
END:VCALENDAR
