BEGIN:VCALENDAR
VERSION:2.0
PRODID:-//www.dsalowcountry.org//NONSGML kigkonsult.se iCalcreator 2.30.10/
 /
CALSCALE:GREGORIAN
METHOD:PUBLISH
UID:4a1a8e7c-9d3f-4963-9a11-6a9cbe97bbbd
X-WR-CALDESC:Location:\n\nAldersgate UMC (1444 Remount Rd. North Charleston
 \, SC 29405)\n\nDates and Times:\n\nAges 2-6 9:00-9:45am\nAges 6-9 10:00-1
 0:45am\nAges 9-18 11:00-11:45am\n \nThese are the dates of the Fall Season
 :\nAugust 4th\nAugust 18th\nSeptember 1st\nSeptember 15th\n \n(September 2
 9th would be an extra date if there are any weather cancellations)\n\nCont
 act Erica to register
X-WR-RELCALID:0e60fd19605500452cf3c1228ba09705
X-WR-TIMEZONE:America/New_York
BEGIN:VTIMEZONE
TZID:America/New_York
BEGIN:STANDARD
TZNAME:EST
DTSTART:20171105T020000
TZOFFSETFROM:-0400
TZOFFSETTO:-0500
RDATE:20181104T020000
RDATE:20191103T020000
END:STANDARD
BEGIN:DAYLIGHT
TZNAME:EDT
DTSTART:20180311T020000
TZOFFSETFROM:-0500
TZOFFSETTO:-0400
RDATE:20190310T020000
RDATE:20200308T020000
END:DAYLIGHT
END:VTIMEZONE
BEGIN:VEVENT
UID:824ef012-f0f0-4278-8f37-31083542ace9
DTSTAMP:20260422T184502Z
DESCRIPTION:Location:\n\nAldersgate UMC (1444 Remount Rd. North Charleston\
 , SC 29405)\n\nDates and Times:\n\nAges 2-6 9:00-9:45am\nAges 6-9 10:00-10
 :45am\nAges 9-18 11:00-11:45am\n \nThese are the dates of the Fall Season:
 \nAugust 4th\nAugust 18th\nSeptember 1st\nSeptember 15th\n \n(September 29
 th would be an extra date if there are any weather cancellations)\n\nConta
 ct Erica to register
DTSTART;TZID=America/New_York:20180915T090000
DTEND;TZID=America/New_York:20180915T120000
LOCATION:1444 Remount Rd. North Charleston\, SC 29405
SUMMARY:Soccer Shots Empower Program
END:VEVENT
END:VCALENDAR
