BEGIN:VCALENDAR
VERSION:2.0
PRODID:-//www.dsalowcountry.org//NONSGML kigkonsult.se iCalcreator 2.30.10/
 /
CALSCALE:GREGORIAN
METHOD:PUBLISH
UID:48b4b6f5-5fe4-4edb-92b5-12277bd6ee6d
X-WR-CALDESC:
X-WR-RELCALID:9b2901bb034f061935fa0fc8db0cfc1a
X-WR-TIMEZONE:America/New_York
BEGIN:VTIMEZONE
TZID:America/New_York
BEGIN:STANDARD
TZNAME:EST
DTSTART:20171105T020000
TZOFFSETFROM:-0400
TZOFFSETTO:-0500
RDATE:20181104T020000
RDATE:20191103T020000
END:STANDARD
BEGIN:DAYLIGHT
TZNAME:EDT
DTSTART:20180311T020000
TZOFFSETFROM:-0500
TZOFFSETTO:-0400
RDATE:20190310T020000
RDATE:20200308T020000
END:DAYLIGHT
END:VTIMEZONE
BEGIN:VEVENT
UID:99dade77-0d32-4b04-bf4d-82f84f61b916
DTSTAMP:20260422T171413Z
DESCRIPTION:
DTSTART;TZID=America/New_York:20181007T120000
DTEND;TZID=America/New_York:20181007T160000
LOCATION:Etiwan Park\, Daniel Island
SUMMARY:Buddy Walk 2017
END:VEVENT
END:VCALENDAR
