BEGIN:VCALENDAR
VERSION:2.0
PRODID:-//www.dsalowcountry.org//NONSGML kigkonsult.se iCalcreator 2.30.10/
 /
CALSCALE:GREGORIAN
METHOD:PUBLISH
UID:43cede25-5431-4fca-bbd9-8dfd9bbed938
X-WR-CALDESC:Behind the Lake at Goose Creek Municipal Center (519 N. Goose 
 Creek Blvd)\n\nIt is a free event for people with disabilities of all ages
  and their families. There will be a limited amount poles/bait provided so
  we ask that you bring your own if you can.
X-WR-RELCALID:24d519b3d8af5d56144887e6735ff3fc
X-WR-TIMEZONE:America/New_York
BEGIN:VTIMEZONE
TZID:America/New_York
BEGIN:STANDARD
TZNAME:EST
DTSTART:20181104T020000
TZOFFSETFROM:-0400
TZOFFSETTO:-0500
RDATE:20191103T020000
END:STANDARD
BEGIN:DAYLIGHT
TZNAME:EDT
DTSTART:20180311T020000
TZOFFSETFROM:-0500
TZOFFSETTO:-0400
RDATE:20190310T020000
RDATE:20200308T020000
END:DAYLIGHT
END:VTIMEZONE
BEGIN:VEVENT
UID:a4455cff-41f9-4f6b-839b-5d6adfd47322
DTSTAMP:20260422T150044Z
DESCRIPTION:Behind the Lake at Goose Creek Municipal Center (519 N. Goose C
 reek Blvd)\n\nIt is a free event for people with disabilities of all ages 
 and their families. There will be a limited amount poles/bait provided so 
 we ask that you bring your own if you can.
DTSTART;TZID=America/New_York:20181110T100000
DTEND;TZID=America/New_York:20181110T140000
LOCATION:519 N. Goose Creek Blvd
SUMMARY:Therapeutic Fishing Rodeo
END:VEVENT
END:VCALENDAR
