BEGIN:VCALENDAR
VERSION:2.0
PRODID:-//www.dsalowcountry.org//NONSGML kigkonsult.se iCalcreator 2.30.10/
 /
CALSCALE:GREGORIAN
METHOD:PUBLISH
UID:11906e3b-e1af-482d-a912-aa71e358f6e6
X-WR-CALDESC:Come celebrate the new year with our DSAL family! Evite to go 
 out in December.
X-WR-RELCALID:ca18c7ded7329fa2f7321d41ba2b3b6c
X-WR-TIMEZONE:America/New_York
BEGIN:VTIMEZONE
TZID:America/New_York
BEGIN:STANDARD
TZNAME:EST
DTSTART:20181104T020000
TZOFFSETFROM:-0400
TZOFFSETTO:-0500
RDATE:20191103T020000
END:STANDARD
BEGIN:DAYLIGHT
TZNAME:EDT
DTSTART:20180311T020000
TZOFFSETFROM:-0500
TZOFFSETTO:-0400
RDATE:20190310T020000
RDATE:20200308T020000
END:DAYLIGHT
END:VTIMEZONE
BEGIN:VEVENT
UID:0c8eb2f5-2235-469a-8d08-65216ba0c970
DTSTAMP:20260422T112425Z
DESCRIPTION:Come celebrate the new year with our DSAL family! Evite to go o
 ut in December.
DTSTART;TZID=America/New_York:20190105T150000
DTEND;TZID=America/New_York:20190105T183000
LOCATION:Wild Dunes Resort
SUMMARY:DSAL New Year's Party
END:VEVENT
END:VCALENDAR
