BEGIN:VCALENDAR
VERSION:2.0
PRODID:-//www.dsalowcountry.org//NONSGML kigkonsult.se iCalcreator 2.30.10/
 /
CALSCALE:GREGORIAN
METHOD:PUBLISH
UID:464832ec-c2fb-409b-a9cb-a13ec81f6e97
X-WR-CALDESC:We will be having another Little Gym play date at the Little G
 ym in Summerville (http://www.thelittlegym.com/SummervilleSC) on Sunday\, 
 March 24th. We will have one session for kids under age 3 from 3:30-4:15 p
 m and one session for kids age 3-8 from 4:15-5:00 pm. If littles want to h
 ang around a while longer or if the older kids want to come a few minutes 
 early\, it is okay for us to overlap somewhat. \n\nI am hoping to see you 
 guys there. This is free for our families but space is limited. For gym st
 affing purposes\, it would be very helpful if you would RSVP if you are go
 ing to attend. We can include siblings if they are in same age range as th
 at session and if we are not at party capacity with DSAL kiddos. If childc
 are for other siblings will be an issue\, perhaps we could help each other
  out with that by having those in the same area combine babysitting effort
 s? There is a waiting area at the gym where older kids are welcome to hang
  out with a book\, ipad\, etc. with large windows through which you can se
 e them. We do want to have a safe space for our little ones to enjoy the g
 ym without getting trampled by older kids. \n\nExpecting parents are encou
 raged to join us too!\n\nAgain\, let me know if you'll be joining us. Look
 ing forward to seeing you there!!
X-WR-RELCALID:a10a974cf733fcfeb154e2411c8a3f0d
X-WR-TIMEZONE:America/New_York
BEGIN:VTIMEZONE
TZID:America/New_York
BEGIN:STANDARD
TZNAME:EST
DTSTART:20181104T020000
TZOFFSETFROM:-0400
TZOFFSETTO:-0500
RDATE:20191103T020000
END:STANDARD
BEGIN:DAYLIGHT
TZNAME:EDT
DTSTART:20190310T020000
TZOFFSETFROM:-0500
TZOFFSETTO:-0400
RDATE:20200308T020000
END:DAYLIGHT
END:VTIMEZONE
BEGIN:VEVENT
UID:ed5de494-b7b1-4063-9f93-a069049be653
DTSTAMP:20260422T075225Z
DESCRIPTION:We will be having another Little Gym play date at the Little Gy
 m in Summerville (http://www.thelittlegym.com/SummervilleSC) on Sunday\, M
 arch 24th. We will have one session for kids under age 3 from 3:30-4:15 pm
  and one session for kids age 3-8 from 4:15-5:00 pm. If littles want to ha
 ng around a while longer or if the older kids want to come a few minutes e
 arly\, it is okay for us to overlap somewhat. \n\nI am hoping to see you g
 uys there. This is free for our families but space is limited. For gym sta
 ffing purposes\, it would be very helpful if you would RSVP if you are goi
 ng to attend. We can include siblings if they are in same age range as tha
 t session and if we are not at party capacity with DSAL kiddos. If childca
 re for other siblings will be an issue\, perhaps we could help each other 
 out with that by having those in the same area combine babysitting efforts
 ? There is a waiting area at the gym where older kids are welcome to hang 
 out with a book\, ipad\, etc. with large windows through which you can see
  them. We do want to have a safe space for our little ones to enjoy the gy
 m without getting trampled by older kids. \n\nExpecting parents are encour
 aged to join us too!\n\nAgain\, let me know if you'll be joining us. Looki
 ng forward to seeing you there!!
DTSTART;TZID=America/New_York:20190324T153000
DTEND;TZID=America/New_York:20190324T170000
LOCATION:Little Gym Summerville: 1201 Old Trolley Road\, Suite C  Summervil
 le\, SC
SUMMARY:Little Gym Play Date
END:VEVENT
END:VCALENDAR
