BEGIN:VCALENDAR
VERSION:2.0
PRODID:-//www.dsalowcountry.org//NONSGML kigkonsult.se iCalcreator 2.30.10/
 /
CALSCALE:GREGORIAN
METHOD:PUBLISH
UID:977640a2-4752-4027-9fb7-d472028c577b
X-WR-CALDESC:The not-for- profit organization\, The Purple Tutu will bring 
 the artistry of ballet to dancers with Down Syndrome\, by providing free c
 lasses at the Charleston Dance Institute.\nThe Purple Tutu’s mission is to
  encourage dancers that they are capable of classical dance training from 
 a unifying experience. In 2014\, the founder\, Holland Mcdowell took actio
 n to achieve this goal. “Going into it\, I was expecting to see improvemen
 ts in physical ability. What I didn’t realize was the potential for the da
 ncers to gain confidence\, learn respect\, and develop discipline\,” said 
 Mcdowell.\nVolunteers\, children 4-10 and their families are welcomed to t
 he thirty minute practice every Monday at 4 PM in studio\, which is locate
 d at 494 Wando Park Boulevard\, Mount Pleasant\, SC 29464.\nParticipants a
 re advised to wear sweatpants/ yoga pants\, a t-shirt\, and bare feet. The
  tutus will be provided for class use.\nIf you would like to participate i
 n the program\, donate to The Purple Tutu or interested in an interview\, 
 please email thepurpletutuballet@gmail.com
X-WR-RELCALID:5afef8c5ca3c19ed973740cab7e77bb6
X-WR-TIMEZONE:America/New_York
BEGIN:VTIMEZONE
TZID:America/New_York
BEGIN:STANDARD
TZNAME:EST
DTSTART:20181104T020000
TZOFFSETFROM:-0400
TZOFFSETTO:-0500
RDATE:20191103T020000
RDATE:20201101T020000
END:STANDARD
BEGIN:DAYLIGHT
TZNAME:EDT
DTSTART:20190310T020000
TZOFFSETFROM:-0500
TZOFFSETTO:-0400
RDATE:20200308T020000
END:DAYLIGHT
END:VTIMEZONE
BEGIN:VEVENT
UID:935b4320-fc8c-4be6-8893-62534f35bd0b
DTSTAMP:20260422T042233Z
DESCRIPTION:The not-for- profit organization\, The Purple Tutu will bring t
 he artistry of ballet to dancers with Down Syndrome\, by providing free cl
 asses at the Charleston Dance Institute.\nThe Purple Tutu’s mission is to 
 encourage dancers that they are capable of classical dance training from a
  unifying experience. In 2014\, the founder\, Holland Mcdowell took action
  to achieve this goal. “Going into it\, I was expecting to see improvement
 s in physical ability. What I didn’t realize was the potential for the dan
 cers to gain confidence\, learn respect\, and develop discipline\,” said M
 cdowell.\nVolunteers\, children 4-10 and their families are welcomed to th
 e thirty minute practice every Monday at 4 PM in studio\, which is located
  at 494 Wando Park Boulevard\, Mount Pleasant\, SC 29464.\nParticipants ar
 e advised to wear sweatpants/ yoga pants\, a t-shirt\, and bare feet. The 
 tutus will be provided for class use.\nIf you would like to participate in
  the program\, donate to The Purple Tutu or interested in an interview\, p
 lease email thepurpletutuballet@gmail.com
DTSTART;TZID=America/New_York:20190506T160000
DTEND;TZID=America/New_York:20190506T163000
LOCATION:494 Wando Park Boulevard\, Mount Pleasant\, SC 29464
SUMMARY:Purple Tutu Ballet Classes
END:VEVENT
END:VCALENDAR
