BEGIN:VCALENDAR
VERSION:2.0
PRODID:-//www.dsalowcountry.org//NONSGML kigkonsult.se iCalcreator 2.30.10/
 /
CALSCALE:GREGORIAN
METHOD:PUBLISH
UID:3ad9bb0c-1d39-4d03-ab41-e0dfd00c01ce
X-WR-CALDESC:It is almost  time to register for this year's Buddy Camp! For
  those of you unfamiliar\, Buddy Camp is a day camp for our kiddos with DS
  ages 3-8. Each camper will invite a typical friend to join them at camp. 
 This friend can be a sibling\, schoolmate\, neighbor or any other friend c
 lose in age. Camp is June 10-13th\, 9 am to 11:30 am with celebratory lunc
 h on the final day (Thursday). Camp will be hosted at Providence Baptist C
 hurch on Daniel Island (294 Seven Farms Drive\, Daniel Island\, SC 29492).
  \n\nCampers will enjoy music\, crafts\, and games all lead by volunteers 
 and the wonderful therapists from Coastal Therapy Services. Each pair of b
 uddies will have a counselor to help the pair navigate the activities for 
 the week. \n\nCheck back here for registration instructions when we get cl
 oser to camp!\n
X-WR-RELCALID:e2908dfb747a4f0ce3dc3a0c0956208f
X-WR-TIMEZONE:America/New_York
BEGIN:VTIMEZONE
TZID:America/New_York
BEGIN:STANDARD
TZNAME:EST
DTSTART:20181104T020000
TZOFFSETFROM:-0400
TZOFFSETTO:-0500
RDATE:20191103T020000
RDATE:20201101T020000
END:STANDARD
BEGIN:DAYLIGHT
TZNAME:EDT
DTSTART:20190310T020000
TZOFFSETFROM:-0500
TZOFFSETTO:-0400
RDATE:20200308T020000
END:DAYLIGHT
END:VTIMEZONE
BEGIN:VEVENT
UID:8251575d-e712-4765-b46e-0f252f1d2a47
DTSTAMP:20260422T023248Z
DESCRIPTION:It is almost  time to register for this year's Buddy Camp! For 
 those of you unfamiliar\, Buddy Camp is a day camp for our kiddos with DS 
 ages 3-8. Each camper will invite a typical friend to join them at camp. T
 his friend can be a sibling\, schoolmate\, neighbor or any other friend cl
 ose in age. Camp is June 10-13th\, 9 am to 11:30 am with celebratory lunch
  on the final day (Thursday). Camp will be hosted at Providence Baptist Ch
 urch on Daniel Island (294 Seven Farms Drive\, Daniel Island\, SC 29492). 
 \n\nCampers will enjoy music\, crafts\, and games all lead by volunteers a
 nd the wonderful therapists from Coastal Therapy Services. Each pair of bu
 ddies will have a counselor to help the pair navigate the activities for t
 he week. \n\nCheck back here for registration instructions when we get clo
 ser to camp!\n
DTSTART;TZID=America/New_York:20190610T090000
DTEND;TZID=America/New_York:20190613T113000
LOCATION:Providence Baptist Church\, Daniel Island - Hosted by Coastal Ther
 apy Services
SUMMARY:Buddy Camp
END:VEVENT
END:VCALENDAR
