BEGIN:VCALENDAR
VERSION:2.0
PRODID:-//www.dsalowcountry.org//NONSGML kigkonsult.se iCalcreator 2.30.10/
 /
CALSCALE:GREGORIAN
METHOD:PUBLISH
UID:47a76b5e-0756-4197-8fcf-0a85abc88f4d
X-WR-CALDESC:DSAL members\, please join us for a summer fun party! There wi
 ll be lunch\, games\, music and more! \nStay tuned for more details but ma
 rk your calendars now!
X-WR-RELCALID:f77e2b53e080a188df8b928b4ae0ecbb
X-WR-TIMEZONE:America/New_York
BEGIN:VTIMEZONE
TZID:America/New_York
BEGIN:STANDARD
TZNAME:EST
DTSTART:20181104T020000
TZOFFSETFROM:-0400
TZOFFSETTO:-0500
RDATE:20191103T020000
RDATE:20201101T020000
END:STANDARD
BEGIN:DAYLIGHT
TZNAME:EDT
DTSTART:20190310T020000
TZOFFSETFROM:-0500
TZOFFSETTO:-0400
RDATE:20200308T020000
END:DAYLIGHT
END:VTIMEZONE
BEGIN:VEVENT
UID:160478e2-2af2-45d8-921b-5893b81521ab
DTSTAMP:20260422T005702Z
DESCRIPTION:DSAL members\, please join us for a summer fun party! There wil
 l be lunch\, games\, music and more! \nStay tuned for more details but mar
 k your calendars now!
DTSTART;TZID=America/New_York:20190714T120000
DTEND;TZID=America/New_York:20190714T160000
LOCATION:Cypress Hall at Wannamaker County Park\, 8888 University Blvd. Nor
 th Charleston\, SC 29406
SUMMARY:DSAL Summer Party
END:VEVENT
END:VCALENDAR
