BEGIN:VCALENDAR
VERSION:2.0
PRODID:-//www.dsalowcountry.org//NONSGML kigkonsult.se iCalcreator 2.30.10/
 /
CALSCALE:GREGORIAN
METHOD:PUBLISH
UID:0f120ec7-9b9b-433d-bd15-55749f0ea000
X-WR-CALDESC:Our Parent to Parent Outreach team has been working hard to or
 ganize the start of monthly Parent meet-ups. These will consist of time to
  talk to each other and sometimes a speaker or topic to discuss. There wil
 l also be refreshments provided. We hope to have child care set up for the
 se meetings in the future so stay tuned for that.
X-WR-RELCALID:89bd10d15509e596b54af6790ebe13bf
X-WR-TIMEZONE:America/New_York
BEGIN:VTIMEZONE
TZID:America/New_York
BEGIN:STANDARD
TZNAME:EST
DTSTART:20181104T020000
TZOFFSETFROM:-0400
TZOFFSETTO:-0500
RDATE:20191103T020000
RDATE:20201101T020000
END:STANDARD
BEGIN:DAYLIGHT
TZNAME:EDT
DTSTART:20190310T020000
TZOFFSETFROM:-0500
TZOFFSETTO:-0400
RDATE:20200308T020000
END:DAYLIGHT
END:VTIMEZONE
BEGIN:VEVENT
UID:51b8c547-d626-4e4d-bbbe-c8b6933fb480
DTSTAMP:20260421T223247Z
DESCRIPTION:Our Parent to Parent Outreach team has been working hard to org
 anize the start of monthly Parent meet-ups. These will consist of time to 
 talk to each other and sometimes a speaker or topic to discuss. There will
  also be refreshments provided. We hope to have child care set up for thes
 e meetings in the future so stay tuned for that.
DTSTART;TZID=America/New_York:20190801T173000
DTEND;TZID=America/New_York:20190801T193000
LOCATION:Bethany UMC in Summerville (118 W 3rd S St\, Summerville\, SC 2948
 3)
SUMMARY:Parent Meet-Up
END:VEVENT
END:VCALENDAR
