BEGIN:VCALENDAR
VERSION:2.0
PRODID:-//www.dsalowcountry.org//NONSGML kigkonsult.se iCalcreator 2.30.10/
 /
CALSCALE:GREGORIAN
METHOD:PUBLISH
UID:345a1854-6256-4552-9618-e8b32a4c5bd4
X-WR-CALDESC:Our Parent to Parent Outreach team has been working hard to or
 ganize the start of monthly Parent meet-ups. These will consist of time to
  talk to each other and sometimes a speaker or topic to discuss. There wil
 l also be refreshments provided. We hope to have child care set up for the
 se meetings in the future so stay tuned for that.
X-WR-RELCALID:84d860e425d2ba8f98853c48410e4e69
X-WR-TIMEZONE:America/New_York
BEGIN:VTIMEZONE
TZID:America/New_York
BEGIN:STANDARD
TZNAME:EST
DTSTART:20181104T020000
TZOFFSETFROM:-0400
TZOFFSETTO:-0500
RDATE:20191103T020000
RDATE:20201101T020000
END:STANDARD
BEGIN:DAYLIGHT
TZNAME:EDT
DTSTART:20190310T020000
TZOFFSETFROM:-0500
TZOFFSETTO:-0400
RDATE:20200308T020000
END:DAYLIGHT
END:VTIMEZONE
BEGIN:VEVENT
UID:f490f6c1-7b46-443b-96a0-f073f8813ea5
DTSTAMP:20260421T205149Z
DESCRIPTION:Our Parent to Parent Outreach team has been working hard to org
 anize the start of monthly Parent meet-ups. These will consist of time to 
 talk to each other and sometimes a speaker or topic to discuss. There will
  also be refreshments provided. We hope to have child care set up for thes
 e meetings in the future so stay tuned for that.
DTSTART;TZID=America/New_York:20190905T173000
DTEND;TZID=America/New_York:20190905T193000
LOCATION:Bethany UMC in Summerville (118 W 3rd S St\, Summerville\, SC 2948
 3)
SUMMARY:Parent Meet-Up
END:VEVENT
END:VCALENDAR
