BEGIN:VCALENDAR
VERSION:2.0
PRODID:-//www.dsalowcountry.org//NONSGML kigkonsult.se iCalcreator 2.30.10/
 /
CALSCALE:GREGORIAN
METHOD:PUBLISH
UID:0baeff22-fc10-432a-8522-7c05004b7a40
X-WR-CALDESC:
X-WR-RELCALID:95a58d4ca93572db5ad8257b7957158b
X-WR-TIMEZONE:America/New_York
BEGIN:VTIMEZONE
TZID:America/New_York
BEGIN:STANDARD
TZNAME:EST
DTSTART:20181104T020000
TZOFFSETFROM:-0400
TZOFFSETTO:-0500
RDATE:20191103T020000
RDATE:20201101T020000
END:STANDARD
BEGIN:DAYLIGHT
TZNAME:EDT
DTSTART:20190310T020000
TZOFFSETFROM:-0500
TZOFFSETTO:-0400
RDATE:20200308T020000
RDATE:20210314T020000
END:DAYLIGHT
END:VTIMEZONE
BEGIN:VEVENT
UID:82df1cea-5e6a-4558-bb7d-159c5bbb46b1
DTSTAMP:20260421T190332Z
DESCRIPTION:
DTSTART;TZID=America/New_York:20191020T120000
DTEND;TZID=America/New_York:20191020T160000
LOCATION:
SUMMARY:Lowcountry Buddy Walk 2019
END:VEVENT
END:VCALENDAR
