BEGIN:VCALENDAR
VERSION:2.0
PRODID:-//www.dsalowcountry.org//NONSGML kigkonsult.se iCalcreator 2.30.10/
 /
CALSCALE:GREGORIAN
METHOD:PUBLISH
UID:5099b1f7-6bb0-42dd-8b10-d12b44e31c0b
X-WR-CALDESC:DSAL parents are invited to come and enjoy dinner and a guest 
 speaker each month. Child care is often available. Please RSVP to Candice.
X-WR-RELCALID:d29b1a99446b1efaf0647c7c368bb8b1
X-WR-TIMEZONE:America/New_York
BEGIN:VTIMEZONE
TZID:America/New_York
BEGIN:STANDARD
TZNAME:EST
DTSTART:20191103T020000
TZOFFSETFROM:-0400
TZOFFSETTO:-0500
RDATE:20201101T020000
END:STANDARD
BEGIN:DAYLIGHT
TZNAME:EDT
DTSTART:20190310T020000
TZOFFSETFROM:-0500
TZOFFSETTO:-0400
RDATE:20200308T020000
RDATE:20210314T020000
END:DAYLIGHT
END:VTIMEZONE
BEGIN:VEVENT
UID:5b15a61e-bbae-46e2-b834-81dad4faf630
DTSTAMP:20260421T120528Z
DESCRIPTION:DSAL parents are invited to come and enjoy dinner and a guest s
 peaker each month. Child care is often available. Please RSVP to Candice.
DTSTART;TZID=America/New_York:20200206T173000
DTEND;TZID=America/New_York:20200206T193000
LOCATION:Bethany Church in Summerville (118 W 3rd S St\, Summerville\, SC 2
 9483)
SUMMARY:Monthly Parent Meeting
END:VEVENT
END:VCALENDAR
