BEGIN:VCALENDAR
VERSION:2.0
PRODID:-//www.dsalowcountry.org//NONSGML kigkonsult.se iCalcreator 2.30.10/
 /
CALSCALE:GREGORIAN
METHOD:PUBLISH
UID:71e341cc-42e2-44ff-996b-3d2b52b5764b
X-WR-CALDESC:Seacoast Church is partnering with the Tim Tebow Foundation to
  host a Night to Shine Prom on February 7! \n\nGuests\, ages 16 or older w
 ith special needs\, are invited to attend this event. A similar experience
 \, called the Luke 14 Celebration\, will be held at the same time in the W
 arehouse for children under the age of 16 with special needs\, and their f
 amilies\, or caregivers.\n\nhttps://www.facebook.com/events/50142511056259
 2/
X-WR-RELCALID:e46497a97b5992bfb5eee3eb48d2ec8a
X-WR-TIMEZONE:America/New_York
BEGIN:VTIMEZONE
TZID:America/New_York
BEGIN:STANDARD
TZNAME:EST
DTSTART:20191103T020000
TZOFFSETFROM:-0400
TZOFFSETTO:-0500
RDATE:20201101T020000
END:STANDARD
BEGIN:DAYLIGHT
TZNAME:EDT
DTSTART:20190310T020000
TZOFFSETFROM:-0500
TZOFFSETTO:-0400
RDATE:20200308T020000
RDATE:20210314T020000
END:DAYLIGHT
END:VTIMEZONE
BEGIN:VEVENT
UID:4267e166-82ab-4230-b168-2eacdb6dfb5c
DTSTAMP:20260421T120843Z
DESCRIPTION:Seacoast Church is partnering with the Tim Tebow Foundation to 
 host a Night to Shine Prom on February 7! \n\nGuests\, ages 16 or older wi
 th special needs\, are invited to attend this event. A similar experience\
 , called the Luke 14 Celebration\, will be held at the same time in the Wa
 rehouse for children under the age of 16 with special needs\, and their fa
 milies\, or caregivers.\n\nhttps://www.facebook.com/events/501425110562592
 /
DTSTART;TZID=America/New_York:20200207T180000
DTEND;TZID=America/New_York:20200207T210000
LOCATION:Seacoast Church - Mount Pleasant 750 Long Point Road\, Mount Pleas
 ant\, South Carolina 29464
SUMMARY:Night to Shine and Luke 14 Prom
END:VEVENT
END:VCALENDAR
