BEGIN:VCALENDAR
VERSION:2.0
PRODID:-//www.dsalowcountry.org//NONSGML kigkonsult.se iCalcreator 2.30.10/
 /
CALSCALE:GREGORIAN
METHOD:PUBLISH
UID:b6f5071f-80e7-4b23-a31a-2f9e1b4ea5e1
X-WR-CALDESC:Free event featuring music\, dancing\, crafts\, activities\, a
 nd refreshments for those 14 and older with physical and intellectual disa
 bilities. \nPlease contact Allison Carter for more information or to RSVP.
X-WR-RELCALID:114f2620d140512a86174d42ba8b3611
X-WR-TIMEZONE:America/New_York
BEGIN:VTIMEZONE
TZID:America/New_York
BEGIN:STANDARD
TZNAME:EST
DTSTART:20191103T020000
TZOFFSETFROM:-0400
TZOFFSETTO:-0500
RDATE:20201101T020000
END:STANDARD
BEGIN:DAYLIGHT
TZNAME:EDT
DTSTART:20190310T020000
TZOFFSETFROM:-0500
TZOFFSETTO:-0400
RDATE:20200308T020000
RDATE:20210314T020000
END:DAYLIGHT
END:VTIMEZONE
BEGIN:VEVENT
UID:1cf65ac2-eb56-45cf-84c5-c6d326d3f49e
DTSTAMP:20260423T104527Z
DESCRIPTION:Free event featuring music\, dancing\, crafts\, activities\, an
 d refreshments for those 14 and older with physical and intellectual disab
 ilities. \nPlease contact Allison Carter for more information or to RSVP.
DTSTART;TZID=America/New_York:20200221T180000
DTEND;TZID=America/New_York:20200221T200000
LOCATION:Metro North Church
SUMMARY:No Limits - Valentine Dance
END:VEVENT
END:VCALENDAR
