BEGIN:VCALENDAR
VERSION:2.0
PRODID:-//www.dsalowcountry.org//NONSGML kigkonsult.se iCalcreator 2.30.10/
 /
CALSCALE:GREGORIAN
METHOD:PUBLISH
UID:65aecbb5-aad8-41b3-ac8f-c631bd813990
X-WR-CALDESC:Come out for our Season Opener and see your Lowcountry Highrol
 lers take on Panhandle United from Fort Walton Beach\, Florida!\n \nThe Al
 lstars (177) will be taking on the Panhandle Unite Allstars (183)\nThe Bru
 isin' Betties will be taking on the Beach Brawl Sk8r Dolls!\n\nMarch 21st 
 is also World Down Syndrome Day. We are partnering up with Down Syndrome A
 ssociation of the Lowcountry to celebrate 'More Alike Than Different' and 
 we encourage our fans\, athletes and volunteers to rock their socks! Wear 
 your craziest socks to show our support for Down Syndrome Awareness! Find 
 out more information about Down Syndrome Association of the Lowcountry at 
 https://www.dsalowcountry.org/\n \nBeer and Wine will be available at the 
 game so don't forget to bring your IDs and parched palettes. \n \n After t
 he games are over\, head over to the afterparty at TBD for a meet and gree
 t with the skaters! See who was chosen as MVPs for both sides. Mingle with
  your favorites! Learn more about derby and how to get involved! We love a
 utographs and photo opportunities! \n \n Advanced tickets are $10\n BUY MO
 RE & SAVE $$$ - Buy 10 or more adult tickets and get $2 off each ticket!\n
  Adult tickets are $15 at the door on bout day!\n Purchasing at the door? 
 Ask about our Military Discount!\n \n **A note on parking: we have parking
  attendants walking around to make sure you are good to go! If you are uns
 ure please ask\, they are there to help!
X-WR-RELCALID:bfc8ca2cfa245290d1d3bd5416de6934
X-WR-TIMEZONE:America/New_York
BEGIN:VTIMEZONE
TZID:America/New_York
BEGIN:STANDARD
TZNAME:EST
DTSTART:20191103T020000
TZOFFSETFROM:-0400
TZOFFSETTO:-0500
RDATE:20201101T020000
END:STANDARD
BEGIN:DAYLIGHT
TZNAME:EDT
DTSTART:20200308T020000
TZOFFSETFROM:-0500
TZOFFSETTO:-0400
RDATE:20210314T020000
END:DAYLIGHT
END:VTIMEZONE
BEGIN:VEVENT
UID:bb8d6824-0fe6-4f54-8360-1c382ac03438
DTSTAMP:20260421T113446Z
DESCRIPTION:Come out for our Season Opener and see your Lowcountry Highroll
 ers take on Panhandle United from Fort Walton Beach\, Florida!\n \nThe All
 stars (177) will be taking on the Panhandle Unite Allstars (183)\nThe Brui
 sin' Betties will be taking on the Beach Brawl Sk8r Dolls!\n\nMarch 21st i
 s also World Down Syndrome Day. We are partnering up with Down Syndrome As
 sociation of the Lowcountry to celebrate 'More Alike Than Different' and w
 e encourage our fans\, athletes and volunteers to rock their socks! Wear y
 our craziest socks to show our support for Down Syndrome Awareness! Find o
 ut more information about Down Syndrome Association of the Lowcountry at h
 ttps://www.dsalowcountry.org/\n \nBeer and Wine will be available at the g
 ame so don't forget to bring your IDs and parched palettes. \n \n After th
 e games are over\, head over to the afterparty at TBD for a meet and greet
  with the skaters! See who was chosen as MVPs for both sides. Mingle with 
 your favorites! Learn more about derby and how to get involved! We love au
 tographs and photo opportunities! \n \n Advanced tickets are $10\n BUY MOR
 E & SAVE $$$ - Buy 10 or more adult tickets and get $2 off each ticket!\n 
 Adult tickets are $15 at the door on bout day!\n Purchasing at the door? A
 sk about our Military Discount!\n \n **A note on parking: we have parking 
 attendants walking around to make sure you are good to go! If you are unsu
 re please ask\, they are there to help!
DTSTART;TZID=America/New_York:20200321T170000
DTEND;TZID=America/New_York:20200321T203000
LOCATION:Isol Soccer Club\, 3337 Business Cir\, North Charleston\, South Ca
 rolina 29418
SUMMARY:Cancelled - LCHR Roller Derby Season Opener
END:VEVENT
END:VCALENDAR
